Workbook

Sheet LX900-A
A1: LX900-A DS900X、欧V、元丰ABS、可调前减、后减、边尾箱/LX900-A DS900X、Euro V，产品图册
A2: ★说明：在本图册中，项目“备注REMARK”标注有“NOT FOR SERVICE”，不能单独购买，请选择对应零件的部件、组件或总成。 ★Special instructions:In this part catalog title bar ，If with a“NOT FOR SERVICE”words ， This part can't be purchased ，Please select the part of the assembly or combination
A3: 序号 Ref.No. | B3: 零件名称代号 Part No. | C3: 零部件名称 Parts name | D3: 英文物料名称 ENGLISH PARTS NAME | E3: 规格状态 Description | F3: 计量单位 Computation units | G3: 数量 Quantity | H3: 易损属性 Consumable grade | I3: 图片Picture | J3: 备注REMARK
A4: F1 发动机总成 ENGINE COMP.
A6: F01-1 | B6: F3101X0003-4M96000 | C6: KE系列 | D6: ENGINE COMP. | E6: KEL900双缸水冷电喷纯电起动发动机>左VOGE凸字右VOGE凸字-国际六档-18极电喷-滑动离合器，3组9片-M7外露17-NGK LMAR9J_9E 抗干扰-出口专用码>中间YA45黑两边M960银灰 | F6: SET | G6: 1 | H6: D
A7: F01-2 | B7: 270920630-0001 | C7: 点火线圈 | D7: COIL ASSY.,IGNITION | E7: RA220_电感式,笔式; | F7: PCS | G7: 1 | H7: B
A8: F01-3 | B8: 381420049-0003 | C8: 内花型头螺栓 | D8: BOLT,LOBULAR SOCKET COUNTERSUNK HEAD | E8: R6220_内花型凸圆头带盘_M6_L=16_8.8级;本色三价锌镍合金 | F8: PCS | G8: 2 | H8: C
A9: F01-4 | B9: 160390019-0001 | C9: 散热器下支耳 | D9: LUG,RADIATOR LOWER | E9: RA220_Q235,2.0mm板材+Φ4圆钢_安装孔Φ7;电泳+喷塑(黑砂晶)Q9R | F9: PCS | G9: 1 | H9: C
A10: F01-5 | B10: 343120007-0001 | C10: 边条连接块 | D10: PIECE,REGULA CONNECTING | E10: RA220_Q235_螺杆M6_用于边条蘑菇头;镀三价彩锌Q09 | F10: PCS | G10: 1 | H10: B
A11: F01-6 | B11: 280200210-0001 | C11: 喇叭支架 | D11: BRACKET,HORN | E11: RA220_Q195,1.5mm板材;电泳+喷塑(黑砂晶)Q9R | F11: PCS | G11: 1 | H11: C
A12: F01-7 | B12: 382330023-0003 | C12: 内六角花型法兰面螺栓 | D12: FLANGE BOLT | E12: R6220_M8_L=12_8.8级 | F12: PCS | G12: 1 | H12: C
A13: F01-8 | B13: 380140102-0011 | C13: 六角头法兰面螺栓 | D13: BOLT,HEXAGON FLANGE | E13: GB/T 16674.1_M6_L=25;镀三价彩锌Q09 | F13: PCS | G13: 1 | H13: C
A14: F01-9 | B14: 193790120-0001 | C14: 花键座 | D14: BASE,SPLINE FITTING | E14: RA220_6082; | F14: PCS | G14: 1 | H14: C
A15: F01-10 | B15: 380451126-0001 | C15: 平垫圈 | D15: WASHER,PLAIN | E15: LK80_内径12_外径24_厚度1.2; | F15: PCS | G15: 1 | H15: C
A16: F01-11 | B16: 381430055-0001 | C16: 缓冲垫 | D16: PAD,CUSHION | E16: RA220_发泡橡胶_Φ12×Φ24×7;黑色 | F16: PCS | G16: 1 | H16: C
A17: F01-12 | B17: 278280001-0001 | C17: 换档趋势传感器 | D17: QUICK SHIFT SENSOR | E17: R713A_角度传感器_含磁铁组件; | G17: 1
A18: F01-13 | B18: 380824696-0001 | C18: 衬套 | D18: COLLAR | E18: RA220_外径14_内径12_长2.8_Q235; | F18: PCS | G18: 1 | H18: C
A19: F01-14 | B19: 380610619-0001 | C19: 销轴 | D19: PIN,CLEVIS | E19: GB/T 119.1_40Cr_d=2.5_L=25; | F19: PCS | G19: 1 | H19: C
A20: F01-15 | B20: 381420063-0003 | C20: 内花型头螺栓 | D20: BOLT,LOBULAR SOCKET COUNTERSUNK HEAD | E20: R6220_内花型凸圆头带盘_M6_L=20_8.8级;本色三价锌镍合金 | F20: PCS | G20: 2 | H20: C
A21: F01-16 | B21: 341920053-0001 | C21: 发动机护罩 | D21: SHIELD,ENGINE | E21: RA220_铝合金2.0；阳极氧化本色 | F21: PCS | G21: 1 | H21: B
A22: F01-17 | B22: 280800182-0001 | C22: 缓冲胶 | D22: RUBBER JACKET, DAMPING | E22: R8100_三元乙丙橡胶_Φ23×Φ10×Φ12×15×2×6; | F22: PCS | G22: 4 | H22: C
A23: F01-18 | B23: 382330025-0003 | C23: 内六角花形法兰面螺栓 | D23: FLANGE BOLT | E23: R6220_M8_L=20_8.8级;本色三价锌镍合金 | F23: PCS | G23: 1 | H23: C
A24: F01-19 | B24: 302610018-0001 | C24: 消声器中连接支撑 | D24: BRACE,MUFFLER MIDDLE CONNECTING | E24: RA220_Q235,2.5mm板材;电泳+喷塑(黑砂晶)Q9R | F24: PCS | G24: 1 | H24: C
A25: F01-20 | B25: 382330025-0001 | C25: 内六角花形法兰面螺栓 | D25: FLANGE BOLT | E25: R6220_M8_L=20_8.8级;镀三价彩锌Q09 | F25: PCS | G25: 3 | H25: C
A26: F01-21 | B26: 381420061-0003 | C26: 内花型头螺栓 | D26: BOLT,LOBULAR SOCKET COUNTERSUNK HEAD | E26: R6220_内花型凸圆头带盘_M6_L=12_8.8级;本色三价锌镍合金 | F26: PCS | G26: 1 | H26: C
A27: F01-22 | B27: 380950538-0001 | C27: 管夹 | D27: CLAMP,TUBE | E27: RA220_Φ2.0高碳钢丝_用于碳罐漏水管;电泳黑漆Q12 | F27: PCS | G27: 1 | H27: C
A28: F01-23 | B28: 380824358-0001 | C28: 衬套 | D28: COLLAR | E28: RA220_外径30.2_内径25_长164_45钢;发动机后_镀三价彩锌Q09 | F28: PCS | G28: 1 | H28: C
A29: F01-24 | B29: 380780361-0001 | C29: 管接头 | D29: JOINT,CONNECTING | E29: RA220_PA66+GF30_外径17_内径12_长45_带O形密封圈(内径14.5线径2.5); | F29: PCS | G29: 1 | H29: C
A30: F02 冷却系统 COOLING SYSTEM
A32: F02-1 | B32: 160010209-0001 | C32: 散热器部件 | D32: HEAT RADIATOR COMP. | E32: RA220_短款_水冷_本体长380×宽200×厚28_带风扇组件(6寸风扇,功率60W),带水箱盖;黑色 | F32: SET | G32: 1 | H32: B
A33: F02-2 | B33: 160020055-0001 | C33: 散热器本体 | D33: BODY SET,RADIATOR | E33: RA220_本体弧长441,宽35.2,芯体弧长365,宽26;黑色 | F33: PCS | G33: 1 | H33: C
A34: F02-3 | B34: 160500030-0001 | C34: 水箱盖 | D34: CAP,WATER TANK | E34: S6100_泄压压力1.2bar,负压压力0.02bar; | F34: PCS | G34: 1 | H34: B
A35: F02-4 | B35: 380890405-0001 | C35: 工字型胶圈 | D35: I-RUBBER | E35: S5100_Φ20×4.25+Φ12.5×2+Φ20×4.25,内径Φ8.75_三元乙丙橡胶; | F35: PCS | G35: 2 | H35: C
A36: F02-5 | B36: 380370003 | C36: 六角法兰面螺母 | D36: NUT,HEXAGON FLANGE | E36: GB/T 6177.1_M6_8级 | F36: PCS | G36: 1 | H36: C | J36: NOT FOR SERVICE
A37: F02-6 | B37: 380450004 | C37: 平垫圈 | D37: WASHER,PLAIN | E37: GB/T 97.1_内径6 | F37: PCS | G37: 1 | H37: C | J37: NOT FOR SERVICE
A38: F02-7 | B38: 380460003 | C38: 弹性垫圈 | D38: WASHER,ELASTIC | E38: GB/T 93_d=6 | F38: PCS | G38: 1 | H38: C | J38: NOT FOR SERVICE
A39: F02-8 | B39: 380190111 | C39: 内六角螺钉 | D39: SCREW,HEXAGON SOCKET | E39: GB/T 70.2_M6_L=20 | F39: PCS | G39: 1 | H39: C | J39: NOT FOR SERVICE
A40: F02-9 | B40: 160240069-0001 | C40: 风扇组件 | D40: FAN ASSY. | E40: RA220_风扇罩:PA66+GF30_扇叶直径6寸,9叶片 | F40: SET | G40: 1 | H40: B
A41: F02-10 | B41: 380890412 | C41: 工字型胶圈 | D41: I-RUBBER | E41: RA220_Φ15×3+Φ10.5×3+Φ15×3,内径Φ6.3_三元乙丙橡胶 | F41: PCS | G41: 2 | H41: C
A42: F02-11 | B42: 382330019-0003 | C42: 内六角花形法兰面螺栓 | D42: FLANGE BOLT | E42: R6220_M6_L=30_8.8级;本色三价锌镍合金 | F42: PCS | G42: 2 | H42: C
...

Sheet ENGINE
A1: REF.No | B1: PLM CODE | C1: CHINESE PARTS NAME | D1: 英文名ENGLISH PARTS NAME | E1: DESCRIPTION | F1: QUANTITY | G1: UNIT | H1: WEAR & TEAR GRADE | I1: 1-A包装（HU) | J1: PICTURE | K1: REMARK | L1: 客户SAP码 | M1: FOB PRICE(USD)
A2: E1 | B2: F3101X0003-4M96000 | C2: 发动机总成 | D2: ENGINE | E2: KEL900双缸水冷电喷纯电起动发动机>左VOGE凸字右VOGE凸字-国际六档-18极电喷-滑动离合器，3组9片-M7外露17-NGK LMAR9J_9E 抗干扰-出口专用码>中间YA45黑两 边M960银灰 | F2: 1 | G2: SET | H2: C
A3: E01 气缸头盖组件 CYLINDER HEAD COVER
A5: E01-01 | B5: 7924218-03 | C5: 气缸头盖 | D5: CYLINDER HEAD COVER | E5: LK83_镁合金 | F5: 1 | G5: PCS | H5: C | I5: 1
A6: E01-02 | B6: 1025328-01 | C6: 气缸头盖密封垫 | D6: CYLINDER HEAD COVER GASKET | E6: LK80_增大半圆密封区域_切除干涉铆钉 | F6: 1 | G6: PCS | H6: A | I6: 10
A7: E01-03 | B7: 8568211-01 | C7: 火花塞密封圈 | D7: COVER GASKET SPARK PLUG DUCT | E7: LK80_火花塞密封圈; | F7: 2 | G7: PCS | H7: B | I7: 10
A8: E01-04 | B8: 8520212-01 | C8: 气缸头盖螺栓组合 | D8: BOLT COMP.,CYLINDER HEAD COVER | E8: LK80_M6×20;ZNS3 | F8: 4 | G8: PCS | H8: C | I8: 4
A9: E01-05 | B9: 7674653-03 | C9: 气缸头盖螺栓 | D9: CYLINDER HEAD SCREW | F9: 4 | M9: NOT FOR SERVICE
A10: E01-06 | B10: 8520214-01 | C10: 紧固垫片 | D10: FIXING WASHER | F10: 4 | M10: NOT FOR SERVICE
A11: E01-07 | B11: 8520213-01 | C11: 橡胶衬套 | D11: RUBBER BUSHING | F11: 4 | M11: NOT FOR SERVICE
A12: E02 气缸头组件 CYLINDER HEAD
A14: E02-01 | B14: 120070307-0001 | C14: 气缸头部件 | D14: ASSY CYLINDER HEAD | E14: 2EA0_增加散热器支架安装凸台;3#亚黑H12 | F14: 1 | G14: SET | H14: C | I14: 1
A15: E02-02 | B15: 120090671-0001 | C15: 气缸头 | D15: CYLINDER HEAD | E15: 2EA0_增加散热器支架安装凸台;3#亚黑H12 | F15: 1 | M15: NOT FOR SERVICE
A16: E02-03 | B16: 9898558-01 | C16: 排气门座圈 | D16: VALVE SEAT INSERT EXHAUST | E16: LK83; | F16: 4 | M16: NOT FOR SERVICE
A17: E02-04 | B17: 8562207-02 | C17: 进气门座圈 | D17: VALVE SEAT INSERT INTAKE | E17: LK80; | F17: 4 | M17: NOT FOR SERVICE
A18: E02-05 | B18: 9903893-00 | C18: 双头螺栓 | D18: STUD | E18: LK08_BMW 9903893_M7_L=30_8.8级;镀达克铬Q | F18: 4
A19: E02-06 | B19: 8556229-03 | C19: 气门导管 | D19: VALVE GUIDE | E19: LK80; | F19: 8 | M19: NOT FOR SERVICE
A20: E02-07 | B20: 141500004-0001 | C20: 凸轮轴支架 | D20: CAMSHAFT BEARING BRIDGE | E20: LK80_毛坯;抛丸Q05 | F20: 1 | M20: NOT FOR SERVICE
A21: E02-08 | B21: 7720059-01 | C21: 内花型头法兰盘螺栓 | D21: ISA SCREW | E21: LK80_M7_L=38_10.9级_凸轮轴支架螺栓和平衡轴轴承座;PHRISA SCREW M7x38 | F21: 12 | G21: PCS | H21: C | I21: 10
A22: E02-09 | B22: 9904649-00 | C22: 密封圈 | D22: O-RING | E22: DIN3771_D=25.12_d=1.78_FPM80; | F22: 2 | G22: PCS | H22: B | I22: 10
A23: E02-10 | B23: 7713823-01 | C23: 平垫圈 | D23: WASHER | E23: LK80_内径7.2_外径15_厚度2_铜_凸轮轴支架; | F23: 4 | G23: PCS | H23: C | I23: 10
A24: E02-11 | B24: 9907038-00 | C24: 实心定位销 | D24: DOWEL PIN | E24: LK80_实心销_d=5_L=10; | F24: 2 | G24: PCS | H24: C | I24: 10
A25: E02-12 | B25: 8561999-01 | C25: 堵头 | D25: EXPANDER | E25: LK80_Do=7_膨胀型; | F25: 1 | G25: PCS | H25: C | I25: 10
A26: E02-13 | B26: 8569335-01 | C26: 进气管 | D26: INTAKE MANIFOLD | E26: LK80; | F26: 2 | G26: PCS | H26: B | I26: 1
A27: E02-14 | B27: 7707831-01 | C27: 内六角沉头螺钉 | D27: COUNTER SUNK HEAD SCREW | E27: ISO10642_M6_L=16; | F27: 4 | G27: PCS | H27: C | I27: 10
A28: E03 进排气机构 AIR INTAKE AND EXHAUST MECHANISM
A30: E03-01 | B30: 140020282-0001 | C30: 进气凸轮轴组合 | D30: ASSY CAMSHAFT INTAKE | E30: 2EA0_进气; | F30: 1 | G30: SET | H30: B | I30: 1
A31: E03-02 | B31: 140030232-0001 | C31: 凸轮轴 | D31: CAMSHAFT INTAKE | E31: 2EA0_进气用凸轮轴; | F31: 1 | G31: PCS | H31: B | I31: 1
A32: E03-03 | B32: 9906155-00 | C32: 堵头 | D32: COVER ITD | E32: DIN443_Do=20;ZNNIV SI | F32: 1 | G32: PCS | H32: C | I32: 10
A33: E03-04 | B33: 9934624-00 | C33: 弹性挡圈 | D33: SNAP RING | E33: DIN472_d=20_S=1; | F33: 1 | G33: PCS | H33: B | I33: 10
A34: E03-05 | B34: 140020283-0001 | C34: 排气凸轮轴组合 | D34: ASSY CAMSHAFT EXAUST | E34: 2EA0_排气; | F34: 1 | G34: SET | H34: B | I34: 1
A35: E03-06 | B35: 140030233-0001 | C35: 凸轮轴 | D35: CAMSHAFT EXAUST | E35: 2EA0_排气用凸轮轴; | F35: 1 | G35: PCS | H35: B | I35: 1
A36: E03-07 | B36: 8561580-01 | C36: 减压阀体 | D36: DECO LEVER | E36: LK80; | F36: 2 | G36: PCS | H36: C | I36: 1
A37: E03-08 | B37: 8392386-01 | C37: 减压阀限位销 | D37: PIN FOR DECO SYSTEM | E37: LK80; | F37: 2 | G37: PCS | H37: C | I37: 1
A38: E03-09 | B38: 8395857-01 | C38: 减压阀扭簧 | D38: SPRING FOR DECO SYSTEM | E38: LK80_凸轮轴减压阀扭簧;4.247圈 | F38: 2 | G38: PCS | H38: B | I38: 1
A39: E03-10 | B39: 9909420-00 | C39: 弹性挡圈 | D39: SNAP RING | E39: DIN471_d=7_S=0.8; | F39: 2 | G39: PCS | H39: B | I39: 10
A40: E03-11 | B40: 140580082-0001 | C40: 正时从动链轮 | D40: TIMING SPROKET | E40: 2EA0_链轮_28齿; | F40: 2 | G40: PCS | H40: B | I40: 1
A41: E03-12 | B41: 7727500-01 | C41: 外花型头法兰盘螺栓 | D41: ASA SCREW | E41: LK80_M7_L=11.5_正时从动轮螺栓;PHR | F41: 6 | G41: PCS | H41: C | I41: 10
... A43: E03-14 | B43: 5A69F47-03 | C43: 上链条导向板组合 | D43: ASSY TOP CHAIN GUIDE | E43: LK83_结构优化 | F43: 1 | G43: PCS | H43: B | I43: 1
A44: E03-15 | B44: 8562331-01 | C44: 上导向板 | D44: SLIDING RAIL | F44: 1 | M44: NOT FOR SERVICE
...

Sheet F3101X0003-4M96000
A1: 110010338-0001 | B1: 110010338-0001 | C1: 曲轴箱组件>2EA0;面粉沃尔瓦格,YA45黑色 | D1: 1 | E1: SET | F1: =IF(A1=B1,"0","1") -> 0
A2: 8559825-04 | B2: 8559825-04 | C2: 轴承座>LK80_平衡轴轴承盖_组合加工前; | D2: 1 | E2: EA | F2: =IF(A2=B2,"0","1") -> 0
A3: 8563976-01 | B3: 8563976-01 | C3: 定位销>LK80_空心销_d=9.5_L=10; | D3: 2 | E3: EA | F3: =IF(A3=B3,"0","1") -> 0
A4: 9907844-00 | B4: 9907844-00 | C4: 定位销>LK80_实心销_d=8_L=18_BMW 9907844; | D4: 2 | E4: EA | F4: =IF(A4=B4,"0","1") -> 0
A5: 8561998-01 | B5: 8561998-01 | C5: 堵头>LK80_Do=12_膨胀型; | D5: 4 | E5: EA | F5: =IF(A5=B5,"0","1") -> 0
A6: 8561999-01 | B6: 8561999-01 | C6: 堵头>LK80_Do=7_膨胀型; | D6: 4 | E6: EA | F6: =IF(A6=B6,"0","1") -> 0
A7: 7712697-01 | B7: 7712697-01 | C7: 堵头>LK80_Do=10_膨胀型; | D7: 5 | E7: EA | F7: =IF(A7=B7,"0","1") -> 0
A8: 7924056-01 | B8: 7924056-01 | C8: 复合垫片>LK80_Φ6.7×Φ16×1_下箱体用; | D8: 1 | E8: EA | F8: =IF(A8=B8,"0","1") -> 0
A9: 7722791-02 | B9: 7722791-02 | C9: 复合垫片>LK80_Φ8×Φ20.5×1.5_下箱体用; | D9: 2 | E9: EA | F9: =IF(A9=B9,"0","1") -> 0
A10: 9904392-00 | B10: 9904392-00 | C10: 密封螺塞>DIN908_M14×1.5;ZNS3 | D10: 1 | E10: EA | F10: =IF(A10=B10,"0","1") -> 0
A11: 9963200-00 | B11: 9963200-00 | C11: 平垫圈>DIN7603_内径14_外径18_铝及铝合金_BMW 9963200; | D11: 1 | E11: EA | F11: =IF(A11=B11,"0","1") -> 0
A12: 110440004-0001 | B12: 110440004-0001 | C12: 视孔盖>LK15_塑料件; | D12: 1 | E12: EA | F12: =IF(A12=B12,"0","1") -> 0
... A277: 361090383-0001 | B277: 361090383-0001 | C277: 塑料袋>0ZAA_透明塑料薄膜_长1050_宽950_厚度0.08; | D277: 1 | E277: EA | F277: =IF(A277=B277,"0","1") -> 0

Sheet LRA22AX002CKV01GWZ
A1: 物料组描述 | B1: 子件物料号 | C1: 子件物料长描述 | D1: 单位 | E1: 数量 | F1: 筛选 | G1: 筛选
A2: 电子控制器ECU | B2: 172710207-0001 | C2: RA220_UASE电喷,ME17,F 01R 00D P3D型_112针脚,双接插件;欧五无程序 | D2: EA | E2: 1 | F2: =VLOOKUP(B2,'LX900-A'!B:B,1,FALSE) -> #N/A | G2: 无程序，不搭
A3: 消声器体前段 | B3: 180710226-0001 | C3: RA220_触媒Φ82×150,300/600目,55g 5:5:1_SUS304料;表面拉丝处理_打刻"e9 LX DS900X"字样_不可用于售后 | D3: EA | E3: 1 | F3: =VLOOKUP(B3,'LX900-A'!B:B,1,FALSE) -> #N/A | G3: 二层级，不搭
A4: 催化转化器 | B4: 180810444-0001 | C4: RA220_Φ82×150_300/600目_55g 5:5:1; | D4: EA | E4: 1 | F4: =VLOOKUP(B4,'LX900-A'!B:B,1,FALSE) -> #N/A | G4: 二层级，不搭
A5: 胎压传感器 | B5: 274470006-0001 | C5: RA220_传感器尺寸55×22.8_弯头;铜管镀镍Q23 | D5: EA | E5: 1 | F5: =VLOOKUP(B5,'LX900-A'!B:B,1,FALSE) -> 274470006-0001
A6: 速度传感器垫片 | B6: 284230004-0002 | C6: S6100_DC01_外径Φ112.5,高度5,厚度1.5,安装孔分度圆Φ72;电泳黑漆Q12 | D6: EA | E6: 1 | F6: =VLOOKUP(B6,'LX900-A'!B:B,1,FALSE) -> 284230004-0002
A7: 前轮 | B7: 290020739-0002 | C7: RA220_网轮铝圈_2.15×21_浮动双盘_真空胎_电子式计速器_带ABS齿圈安装孔;轮圈阳极氧化金色_轮毂喷粉+2#哑黑H97 | D7: EA | E7: 1 | F7: =VLOOKUP(B7,'LX900-A'!B:B,1,FALSE) -> 290020739-0002
A8: 轮胎 | B8: 290150981-0001 | C8: RA220_真空胎_90/90 R21_Scorpion Trail II花纹_速度等级V_高品质; | D8: EA | E8: 1 | F8: =VLOOKUP(B8,'LX900-A'!B:B,1,FALSE) -> 290150981-0001
A9: 前碟刹盘 | B9: 291420231-0001 | C9: RA220_浮动圆盘_六孔(Φ10.5×6); | D9: EA | E9: 2 | F9: =VLOOKUP(B9,'LX900-A'!B:B,1,FALSE) -> 291420231-0001
A10: 碟刹盘紧固螺栓 | B10: 291440047-0003 | C10: R6220_内六花_轴位直径10×9/M8×25;热处理_本色三价锌镍合金 | D10: EA | E10: 12 | F10: =VLOOKUP(B10,'LX900-A'!B:B,1,FALSE) -> 291440047-0003
A11: 内花型头螺栓 | B11: 381420067-0003 | C11: R6220_内花型圆柱头螺钉_M5_L=12_8.8级;本色三价锌镍合金 | D11: EA | E11: 5 | F11: =VLOOKUP(B11,'LX900-A'!B:B,1,FALSE) -> 381420067-0003
A12: 平垫圈 | B12: 380450028-0011 | C12: GB/T 97.1_内径5;镀三价彩锌Q09 | D12: EA | E12: 5 | F12: =VLOOKUP(B12,'LX900-A'!B:B,1,FALSE) -> 380450028-0011
A13: 胎压传感器 | B13: 274470006-0001 | C13: RA220_传感器尺寸55×22.8_弯头;铜管镀镍Q23 | D13: EA | E13: 1 | F13: =VLOOKUP(B13,'LX900-A'!B:B,1,FALSE) -> 274470006-0001
A14: 速度传感器垫片 | B14: 284230004-0002 | C14: S6100_DC01_外径Φ112.5,高度5,厚度1.5,安装孔分度圆Φ72;电泳黑漆Q12 | D14: EA | E14: 1 | F14: =VLOOKUP(B14,'LX900-A'!B:B,1,FALSE) -> 284230004-0002
A15: 轮胎 | B15: 290150982-0001 | C15: RA220_真空胎_150/70 R17_Scorpion Trail II花纹_速度等级V_高品质; | D15: EA | E15: 1 | F15: =VLOOKUP(B15,'LX900-A'!B:B,1,FALSE) -> 290150982-0001
A16: 后轮 | B16: 290220710-0002 | C16: RA220_网轮铝圈_4.25×17_碟刹_真空胎_缓冲块_电子式计速器_带ABS齿圈安装孔;轮圈阳极氧化金色,轮毂喷粉+2#哑黑H97 | D16: EA | E16: 1 | F16: =VLOOKUP(B16,'LX900-A'!B:B,1,FALSE) -> 290220710-0002
... A32: 内六角花形法兰面螺栓 | B32: 382330029-0003 | C32: R6220_M8_L=35_A=16_10.9级;本色三价锌镍合金 | D32: EA | E32: 4 | F32: =VLOOKUP(B32,'LX900-A'!B:B,1,FALSE) -> 382330029-0003
A33: 卡箍 | B33: 380970281-0001 | C33: RA220_DC01,1.0mm板材_孔52.5_用于前制动油管;电泳+喷塑2#哑黑Q8A | D33: EA | E33: 1 | F33: =VLOOKUP(B33,'LX900-A'!B:B,1,FALSE) -> 380970281-0001 | G33: 漏搭，制动
A34: 碟刹软管螺栓 | B34: 291800034-0001 | C34: R7100_M10×1×19;镀锌镍合金Q41 | D34: EA | E34: 4 | F34: =VLOOKUP(B34,'LX900-A'!B:B,1,FALSE) -> 291800034-0001
A35: ABS防抱死装置 | B35: 291820072-0001 | C35: RA220_1#状态;干式_元丰九代_YF9 | D35: EA | E35: 1 | F35: =VLOOKUP(B35,'LX900-A'!B:B,1,FALSE) -> 291820072-0001
A36: ABS连接油管 | B36: 294180123-0001 | C36: RA220_前进_航空管;软管带V030927字样_黑色 | D36: EA | E36: 1 | F36: =VLOOKUP(B36,'LX900-A'!B:B,1,FALSE) -> 294180123-0001
A37: ABS连接油管 | B37: 294180124-0001 | C37: RA220_前出_航空管;软管带V030927字样_黑色 | D37: EA | E37: 1 | F37: =VLOOKUP(B37,'LX900-A'!B:B,1,FALSE) -> 294180124-0001
A38: ABS连接油管 | B38: 294180125-0001 | C38: RA220_后进_航空管;软管带V030927字样_黑色 | D38: EA | E38: 1 | F38: =VLOOKUP(B38,'LX900-A'!B:B,1,FALSE) -> 294180125-0001
A39: ABS连接油管 | B39: 294180126-0001 | C39: RA220_后出_航空管;软管带V030927字样_黑色 | D39: EA | E39: 1 | F39: =VLOOKUP(B39,'LX900-A'!B:B,1,FALSE) -> 294180126-0001
A40: ABS安装支架 | B40: 297700033-0001 | C40: RA220_Q235,2.0mm板材_配博士ABS;电泳+喷塑2#哑黑Q8A | D40: EA | E40: 1 | F40: =VLOOKUP(B40,'LX900-A'!B:B,1,FALSE) -> 297700033-0001
A41: 平垫圈 | B41: 380450298-0001 | C41: Q/LX G 8.7_内径10_外径15_厚度1_铜;氧化Q07 | D41: EA | E41: 8 | F41: =VLOOKUP(B41,'LX900-A'!B:B,1,FALSE) -> 380450298-0001
A42: 衬套 | B42: 380820512-0004 | C42: 1730_翻边Φ9(Φ18×1.5)_内径6_长10;镀三价彩锌Q09 | D42: EA | E42: 2 | F42: =VLOOKUP(B42,'LX900-A'!B:B,1,FALSE) -> 380820512-0004
A43: 工字型胶圈 | B43: 380890174-0001 | C43: L040_Φ18×3+Φ12×2+Φ18×3+Φ8×8_三元乙丙_用于仪表支架_XH101903; | D43: EA | E43: 2 | F43: =VLOOKUP(B43,'LX900-A'!B:B,1,FALSE) -> 380890174-0001
A44: 内花型头螺栓 | B44: 381420049-0003 | C44: R6220_内花型凸圆头带盘_M6_L=16_8.8级;本色三价锌镍合金 | D44: EA | E44: 2 | F44: =VLOOKUP(B44,'LX900-A'!B:B,1,FALSE) -> 381420049-0003
A45: 左闸把部件 | B45: 271390600-0001 | C45: RA220_尼龙+玻纤_直流_不带风门手柄_带应急灯开关,巡航开关_线长600; | D45: SET | E45: 1 | F45: =VLOOKUP(B45,'LX900-A'!B:B,1,FALSE) -> 271390600-0001
... A64: 内花型头螺栓 | B64: 381420051-0003 | C64: R6220_内花型凸圆头带盘_M5_L=16_8.8级;本色三价锌镍合金 | D64: EA | E64: 7 | F64: =VLOOKUP(B64,'LX900-A'!B:B,1,FALSE) -> 381420051-0003
A65: 快换接头 | B65: 273610021-0001 | C65: RA220_7.89快换堵头; | D65: EA | E65: 2 | F65: =VLOOKUP(B65,'LX900-A'!B:B,1,FALSE) -> 273610021-0001 | G65: 漏搭，油箱
A66: 油箱护板支架 | B66: 340080015-0001 | C66: RA220_PA6;喷砂Q06 | D66: EA | E66: 1 | F66: =VLOOKUP(B66,'LX900-A'!B:B,1,FALSE) -> 340080015-0001
A67: 卡子螺母 | B67: 380420070-0001 | C67: R7110_M5_长17.5,宽15_65Mn;镀三价彩锌Q09 | D67: EA | E67: 4 | F67: =VLOOKUP(B67,'LX900-A'!B:B,1,FALSE) -> 380420070-0001
A68: 扎带 | B68: 6918644-01 | C68: 6918644 ASSY CAB | D68: EA | E68: 1 | F68: =VLOOKUP(B68,'LX900-A'!B:B,1,FALSE) -> 6918644-01 | G68: 漏搭，油箱
A69: 附件盒 | B69: 360720275-0002 | C69: R613C_瓦楞纸_一瓦楞三层_长430_宽260_高120_飞机盒;出口 | D69: EA | E69: 1 | F69: =VLOOKUP(B69,'LX900-A'!B:B,1,FALSE) -> #N/A | G69: 包装
A70: 包装箱 | B70: 360825522-0001 | C70: RA22A_瓦楞纸_三瓦楞纸七层_长2260_宽830_高1130_单摇盖;DS900X出口版面_用于状态1 | D70: EA | E70: 1 | F70: =VLOOKUP(B70,'LX900-A'!B:B,1,FALSE) -> #N/A | G70: 包装
A71: 包装支架 | B71: 361031158-0001 | C71: RA22A_角钢_长2250_宽820_高1130(不含踮脚)_带铁托盘_垫脚高80;用于出口状态1 | D71: SET | E71: 1 | F71: =VLOOKUP(B71,'LX900-A'!B:B,1,FALSE) -> #N/A | G71: 包装
A72: 气泡袋 | B72: 361080002-0001 | C72: 长370_宽290; | D72: EA | E72: 1 | F72: =VLOOKUP(B72,'LX900-A'!B:B,1,FALSE) -> #N/A | G72: 包装
A73: 气泡袋 | B73: 361080004-0001 | C73: 长380_宽200; | D73: EA | E73: 4 | F73: =VLOOKUP(B73,'LX900-A'!B:B,1,FALSE) -> #N/A | G73: 包装
...

Sheet LRA22AX002CKV02WWZ
A1: 子件物料号 | B1: 物料组描述 | C1: 子件物料长描述 | D1: 单位 | E1: 数量
A2: 172710207-0001 | B2: 电子控制器ECU | C2: RA220_UASE电喷,ME17,F 01R 00D P3D型_112针脚,双接插件;欧五无程序 | D2: EA | E2: 1
A3: 180710226-0001 | B3: 消声器体前段 | C3: RA220_触媒Φ82×150,300/600目,55g 5:5:1_SUS304料;表面拉丝处理_打刻"e9 LX DS900X"字样_不可用于售后 | D3: EA | E3: 1
A4: 180810444-0001 | B4: 催化转化器 | C4: RA220_Φ82×150_300/600目_55g 5:5:1; | D4: EA | E4: 1
A5: 274470006-0001 | B5: 胎压传感器 | C5: RA220_传感器尺寸55×22.8_弯头;铜管镀镍Q23 | D5: EA | E5: 1
A6: 284230004-0002 | B6: 速度传感器垫片 | C6: S6100_DC01_外径Φ112.5,高度5,厚度1.5,安装孔分度圆Φ72;电泳黑漆Q12 | D6: EA | E6: 1
A7: 290020739-0002 | B7: 前轮 | C7: RA220_网轮铝圈_2.15×21_浮动双盘_真空胎_电子式计速器_带ABS齿圈安装孔;轮圈阳极氧化金色_轮毂喷粉+2#哑黑H97 | D7: EA | E7: 1
A8: 290150981-0001 | B8: 轮胎 | C8: RA220_真空胎_90/90 R21_Scorpion Trail II花纹_速度等级V_高品质; | D8: EA | E8: 1
A9: 291420231-0001 | B9: 前碟刹盘 | C9: RA220_浮动圆盘_六孔(Φ10.5×6); | D9: EA | E9: 2
A10: 291440047-0003 | B10: 碟刹盘紧固螺栓 | C10: R6220_内六花_轴位直径10×9/M8×25;热处理_本色三价锌镍合金 | D10: EA | E10: 12
A11: 381420067-0003 | B11: 内花型头螺栓 | C11: R6220_内花型圆柱头螺钉_M5_L=12_8.8级;本色三价锌镍合金 | D11: EA | E11: 5
A12: 380450028-0011 | B12: 平垫圈 | C12: GB/T 97.1_内径5;镀三价彩锌Q09 | D12: EA | E12: 5
A13: 274470006-0001 | B13: 胎压传感器 | C13: RA220_传感器尺寸55×22.8_弯头;铜管镀镍Q23 | D13: EA | E13: 1
... A526: F3101X0003-4M96000 | B526: KE系列 | C526: KEL900双缸水冷电喷纯电起动发动机>左VOGE凸字右VOGE凸字-国际六档-18极电喷-滑动离合器，3组9片-M7外露17-NGK LMAR9J_9E 抗干扰-出口专用码>中间YA45黑两边M960银灰 | D526: TAI | E526: 1
