Workbook

Sheet LX900-A
A1: LX900-A DS900X、欧V、元丰ABS、可调前减、后减、边尾箱/LX900-A DS900X、Euro V，产品图册
A2: ★说明：在本图册中，项目“备注REMARK”标注有“NOT FOR SERVICE”，不能单独购买，请选择对应零件的部件、组件或总成。 ★Special instructions:In this part catalog title bar ，If with a“NOT FOR SERVICE”words ， This part can't be purchased ，Please select the part of the assembly or combination
A3: 序号 Ref.No. | B3: 零件名称代号 Part No. | C3: 零部件名称 Parts name | D3: 英文物料名称 ENGLISH PARTS NAME | E3: 规格状态 Description | F3: 计量单位 Computation units | G3: 数量 Quantity | H3: 易损属性 Consumable grade | I3: 图片Picture | J3: 备注REMARK
A4: F1 发动机总成 ENGINE COMP.
A6: F01-1 | B6: F3101X0003-4M96000 | C6: KE系列 | D6: ENGINE COMP. | E6: KEL900双缸水冷电喷纯电起动发动机>左VOGE凸字右VOGE凸字-国际六档-18极电喷-滑动离合器，3组9片-M7外露17-NGK LMAR9J_9E 抗干扰-出口专用码>中间YA45黑两边M960银灰 | F6: SET | G6: 1 | H6: D
A7: F01-2 | B7: 270920630-0001 | C7: 点火线圈 | D7: COIL ASSY.,IGNITION | E7: RA220_电感式,笔式; | F7: PCS | G7: 1 | H7: B
A8: F01-3 | B8: 381420049-0003 | C8: 内花型头螺栓 | D8: BOLT,LOBULAR SOCKET COUNTERSUNK HEAD | E8: R6220_内花型凸圆头带盘_M6_L=16_8.8级;本色三价锌镍合金 | F8: PCS | G8: 2 | H8: C
A9: F01-4 | B9: 160390019-0001 | C9: 散热器下支耳 | D9: LUG,RADIATOR LOWER | E9: RA220_Q235,2.0mm板材+Φ4圆钢_安装孔Φ7;电泳+喷塑(黑砂晶)Q9R | F9: PCS | G9: 1 | H9: C
A10: F01-5 | B10: 343120007-0001 | C10: 边条连接块 | D10: PIECE,REGULA CONNECTING | E10: RA220_Q235_螺杆M6_用于边条蘑菇头;镀三价彩锌Q09 | F10: PCS | G10: 1 | H10: B
A11: F01-6 | B11: 280200210-0001 | C11: 喇叭支架 | D11: BRACKET,HORN | E11: RA220_Q195,1.5mm板材;电泳+喷塑(黑砂晶)Q9R | F11: PCS | G11: 1 | H11: C
A12: F01-7 | B12: 382330023-0003 | C12: 内六角花型法兰面螺栓 | D12: FLANGE BOLT | E12: R6220_M8_L=12_8.8级 | F12: PCS | G12: 1 | H12: C
A13: F01-8 | B13: 380140102-0011 | C13: 六角头法兰面螺栓 | D13: BOLT,HEXAGON FLANGE | E13: GB/T 16674.1_M6_L=25;镀三价彩锌Q09 | F13: PCS | G13: 1 | H13: C
A14: F01-9 | B14: 193790120-0001 | C14: 花键座 | D14: BASE,SPLINE FITTING | E14: RA220_6082; | F14: PCS | G14: 1 | H14: C
A15: F01-10 | B15: 380451126-0001 | C15: 平垫圈 | D15: WASHER,PLAIN | E15: LK80_内径12_外径24_厚度1.2; | F15: PCS | G15: 1 | H15: C
A16: F01-11 | B16: 381430055-0001 | C16: 缓冲垫 | D16: PAD,CUSHION | E16: RA220_发泡橡胶_Φ12×Φ24×7;黑色 | F16: PCS | G16: 1 | H16: C
A17: F01-12 | B17: 278280001-0001 | C17: 换档趋势传感器 | D17: QUICK SHIFT SENSOR | E17: R713A_角度传感器_含磁铁组件; | G17: 1
A18: F01-13 | B18: 380824696-0001 | C18: 衬套 | D18: COLLAR | E18: RA220_外径14_内径12_长2.8_Q235; | F18: PCS | G18: 1 | H18: C
A19: F01-14 | B19: 380610619-0001 | C19: 销轴 | D19: PIN,CLEVIS | E19: GB/T 119.1_40Cr_d=2.5_L=25; | F19: PCS | G19: 1 | H19: C
A20: F01-15 | B20: 381420063-0003 | C20: 内花型头螺栓 | D20: BOLT,LOBULAR SOCKET COUNTERSUNK HEAD | E20: R6220_内花型凸圆头带盘_M6_L=20_8.8级;本色三价锌镍合金 | F20: PCS | G20: 2 | H20: C
A21: F01-16 | B21: 341920053-0001 | C21: 发动机护罩 | D21: SHIELD,ENGINE | E21: RA220_铝合金2.0；阳极氧化本色 | F21: PCS | G21: 1 | H21: B
A22: F01-17 | B22: 280800182-0001 | C22: 缓冲胶 | D22: RUBBER JACKET, DAMPING | E22: R8100_三元乙丙橡胶_Φ23×Φ10×Φ12×15×2×6; | F22: PCS | G22: 4 | H22: C
A23: F01-18 | B23: 382330025-0003 | C23: 内六角花形法兰面螺栓 | D23: FLANGE BOLT | E23: R6220_M8_L=20_8.8级;本色三价锌镍合金 | F23: PCS | G23: 1 | H23: C
A24: F01-19 | B24: 302610018-0001 | C24: 消声器中连接支撑 | D24: BRACE,MUFFLER MIDDLE CONNECTING | E24: RA220_Q235,2.5mm板材;电泳+喷塑(黑砂晶)Q9R | F24: PCS | G24: 1 | H24: C
A25: F01-20 | B25: 382330025-0001 | C25: 内六角花形法兰面螺栓 | D25: FLANGE BOLT | E25: R6220_M8_L=20_8.8级;镀三价彩锌Q09 | F25: PCS | G25: 3 | H25: C
A26: F01-21 | B26: 381420061-0003 | C26: 内花型头螺栓 | D26: BOLT,LOBULAR SOCKET COUNTERSUNK HEAD | E26: R6220_内花型凸圆头带盘_M6_L=12_8.8级;本色三价锌镍合金 | F26: PCS | G26: 1 | H26: C
A27: F01-22 | B27: 380950538-0001 | C27: 管夹 | D27: CLAMP,TUBE | E27: RA220_Φ2.0高碳钢丝_用于碳罐漏水管;电泳黑漆Q12 | F27: PCS | G27: 1 | H27: C
A28: F01-23 | B28: 380824358-0001 | C28: 衬套 | D28: COLLAR | E28: RA220_外径30.2_内径25_长164_45钢;发动机后_镀三价彩锌Q09 | F28: PCS | G28: 1 | H28: C
A29: F01-24 | B29: 380780361-0001 | C29: 管接头 | D29: JOINT,CONNECTING | E29: RA220_PA66+GF30_外径17_内径12_长45_带O形密封圈(内径14.5线径2.5); | F29: PCS | G29: 1 | H29: C
A30: F02 冷却系统 COOLING SYSTEM
A32: F02-1 | B32: 160010209-0001 | C32: 散热器部件 | D32: HEAT RADIATOR COMP. | E32: RA220_短款_水冷_本体长380×宽200×厚28_带风扇组件(6寸风扇,功率60W),带水箱盖;黑色 | F32: SET | G32: 1 | H32: B
A33: F02-2 | B33: 160020055-0001 | C33: 散热器本体 | D33: BODY SET,RADIATOR | E33: RA220_本体弧长441,宽35.2,芯体弧长365,宽26;黑色 | F33: PCS | G33: 1 | H33: C
A34: F02-3 | B34: 160500030-0001 | C34: 水箱盖 | D34: CAP,WATER TANK | E34: S6100_泄压压力1.2bar,负压压力0.02bar; | F34: PCS | G34: 1 | H34: B
A35: F02-4 | B35: 380890405-0001 | C35: 工字型胶圈 | D35: I-RUBBER | E35: S5100_Φ20×4.25+Φ12.5×2+Φ20×4.25,内径Φ8.75_三元乙丙橡胶; | F35: PCS | G35: 2 | H35: C
A36: F02-5 | B36: 380370003 | C36: 六角法兰面螺母 | D36: NUT,HEXAGON FLANGE | E36: GB/T 6177.1_M6_8级 | F36: PCS | G36: 1 | H36: C | J36: NOT FOR SERVICE
A37: F02-6 | B37: 380450004 | C37: 平垫圈 | D37: WASHER,PLAIN | E37: GB/T 97.1_内径6 | F37: PCS | G37: 1 | H37: C | J37: NOT FOR SERVICE
A38: F02-7 | B38: 380460003 | C38: 弹性垫圈 | D38: WASHER,ELASTIC | E38: GB/T 93_d=6 | F38: PCS | G38: 1 | H38: C | J38: NOT FOR SERVICE
A39: F02-8 | B39: 380190111 | C39: 内六角螺钉 | D39: SCREW,HEXAGON SOCKET | E39: GB/T 70.2_M6_L=20 | F39: PCS | G39: 1 | H39: C | J39: NOT FOR SERVICE
A40: F02-9 | B40: 160240069-0001 | C40: 风扇组件 | D40: FAN ASSY. | E40: RA220_风扇罩:PA66+GF30_扇叶直径6寸,9叶片 | F40: SET | G40: 1 | H40: B
A41: F02-10 | B41: 380890412 | C41: 工字型胶圈 | D41: I-RUBBER | E41: RA220_Φ15×3+Φ10.5×3+Φ15×3,内径Φ6.3_三元乙丙橡胶 | F41: PCS | G41: 2 | H41: C
A42: F02-11 | B42: 382330019-0003 | C42: 内六角花形法兰面螺栓 | D42: FLANGE BOLT | E42: R6220_M6_L=30_8.8级;本色三价锌镍合金 | F42: PCS | G42: 2 | H42: C
A43: F02-12 | B43: 380470185-0001 | C43: 翻边垫圈 | D43: WASHER,FLANGE | E43: RA220_Φ14×Φ9×Φ6.5×18;镀三价彩锌Q09 | F43: PCS | G43: 2 | H43: C
A44: F02-13 | B44: 380910080-0001 | C44: 仿工字型胶圈 | D44: I-RUBBER | E44: RA220_椭圆21×17,卡槽10.5×1.6_三元乙丙胶; | F44: PCS | G44: 2 | H44: C
A45: F02-14 | B45: 380420062-0001 | C45: 卡子螺母 | D45: NUT,CLIP | E45: R7100_M6_长17.5,宽15_65Mn;镀三价彩锌Q09 | F45: PCS | G45: 4 | H45: C
A46: F02-15 | B46: 380821669-0002 | C46: 翻边垫圈 | D46: COLLAR | E46: J920_翻边Φ9(Φ18×2)_内径6.5_长7_挡泥板用;镀三价彩锌Q09 | F46: PCS | G46: 2 | H46: C
A47: F02-16 | B47: 382330015-0003 | C47: 内六角花形法兰面螺栓 | D47: FLANGE BOLT | E47: R6220_M6_L=16_8.8级;本色三价锌镍合金 | F47: PCS | G47: 2 | H47: C
A48: F02-17 | B48: 161420004-0001 | C48: 补偿水壶 | D48: SUPPLEMENTARY CAN | E48: RA220_HDPE料_异形_吹塑,容积:380ml;本色 | F48: PCS | G48: 1 | H48: C
A49: F02-18 | B49: 160050021-0001 | C49: 加水口盖 | D49: CAP,FILLER | E49: RA220_EPDM;黑色 | F49: PCS | G49: 1 | H49: C
A50: F02-19 | B50: 380760682-0001 | C50: 水管 | D50: TUBE,WATER | E50: RA220_内径6,外径12,长186_三元乙丙橡胶(EPDM)_散热器补水管;黑色 | F50: PCS | G50: 1 | H50: B
A51: F02-20 | B51: 380950509-0002 | C51: 管夹 | D51: CLAMP,TUBE | E51: R6200_Φ10.5_钢板夹;镀三价彩锌Q09 | F51: PCS | G51: 2 | H51: C
A52: F02-21 | B52: 380950543-0001 | C52: 管夹 | D52: CLAMP,TUBE | E52: QC/T 621.1_A型_Φ33_厚1.7_水管_51Cr4V;锌铝涂层,黑色 | F52: PCS | G52: 3 | H52: C
A53: F02-22 | B53: 380760680-0001 | C53: 水管 | D53: TUBE,WATER | E53: RA220_内径24,外径32,长172.5+内径30,外径36.8,长24.5_三元乙丙橡胶(EPDM)+聚酯乙烯_出水管;黑色 | F53: PCS | G53: 1 | H53: B
... A60: F02-29 | B60: 380890409-0001 | C60: 工字型胶圈 | D60: I-RUBBER | E60: RA220_Φ20×Φ10×8_三元乙丙橡胶;XH103704 | F60: PCS | G60: 2 | H60: C
A61: F03 油箱部件 FUEL TANK ASSY.
A63: F03-1 | B63: 380760683-0001 | C63: 水管 | D63: TUBE,WATER | E63: RA220_内径5,外径9,长1205_三元乙丙橡胶(EPDM)_油箱漏水;黑色 | F63: PCS | G63: 1 | H63: B
A64: F03-2 | B64: 380760705-0001 | C64: 水管 | D64: TUBE,WATER | E64: RA220_内径5,外径9,长1000_EPDM_油箱漏水;黑色 | F64: PCS | G64: 1 | H64: B
A65: F03-3 | B65: 6918644-01 | C65: 扎带 | D65: BAND | E65: 6918644 ASSY CAB | G65: 1
A66: F03-4 | B66: 170690046-0001 | C66: 油箱支撑胶套 | D66: RUBBER JACKET,FUEL TANK PROP | E66: L100_橡胶_安装孔Φ9,外径Φ32,长19_安装油箱前部_XH103413; | F66: PCS | G66: 2 | H66: C
A67: F03-5 | B67: 170520175-0001 | C67: 油箱焊接组合 | D67: WELDING ASSY.,FUEL TANK | E67: RA220;2#哑黑H97 | F67: PCS | G67: 1 | H67: C
A68: F03-6 | B68: 380420070-0001 | C68: 卡子螺母 | D68: NUT,CLIP | E68: R7110_M5_长17.5,宽15_65Mn;镀三价彩锌Q09 | F68: PCS | G68: 4 | H68: C
A69: F03-7 | B69: 273610021-0001 | C69: 快换接头 | D69: JOINT, SWIFT CHANGE | E69: RA220_7.89快换堵头; | F69: PCS | G69: 2 | H69: C
A70: F03-8 | B70: 381420051-0003 | C70: 内花型头螺栓 | D70: BOLT,LOBULAR SOCKET COUNTERSUNK HEAD | E70: R6220_内花型凸圆头带盘_M5_L=16_8.8级;本色三价锌镍合金 | F70: PCS | G70: 7 | H70: C
A71: F03-9 | B71: 172720028-0001 | C71: 电子燃油泵 | D71: FUEL PUMP,ELECTRIC | E71: RA220_下置式_带传感器_带油泵安装板,5bar,衍射管; | F71: PCS | G71: 1 | H71: C
A72: F03-10 | B72: 380880111-0001 | C72: T字型胶圈 | D72: T-RUBBER | E72: RA220_Φ15×Φ22×Φ28×(9-6),总长15mm;用于油箱_黑色 | F72: PCS | G72: 4 | H72: C
A73: F03-11 | B73: 380824798-0001 | C73: 衬套 | D73: COLLAR | E73: RA220_外径15_内径9_长31_20钢_三价彩 | F73: PCS | G73: 2 | H73: C
A74: F03-12 | B74: 380451406-0002 | C74: 平垫圈 | D74: WASHER,PLAIN | E74: S6100_优质碳素结构钢_内径8.5_外径28_厚2;镀锌镍合金Q41 | G74: 2
A75: F03-13 | B75: 381420049-0003 | C75: 内花型头螺栓 | D75: BOLT,LOBULAR SOCKET COUNTERSUNK HEAD | E75: R6220_内花型凸圆头带盘_M6_L=16_8.8级;本色三价锌镍合金 | F75: PCS | G75: 4 | H75: C
A76: F03-14 | B76: 300440174-0001 | C76: 油箱后支撑 | D76: BRACE,FUEL TANK REAR | E76: RA220_Q235,2.0mm板材_安装孔距100;电泳+喷塑(黑砂晶)Q9R | F76: PCS | G76: 1 | H76: C
A77: F03-15 | B77: 382330038-0002 | C77: 内六角花形法兰面螺栓 | D77: FLANGE BOLT | E77: 2CA0_M8_L=45;镀锌镍合金Q41 | F77: PCS | G77: 2 | H77: C
A78: F03-16 | B78: 340080015-0001 | C78: 油箱护板支架 | D78: BRACKET,FUEL TANK GUARD PLATE | E78: RA220_PA6;喷砂Q06 | F78: PCS | G78: 1 | H78: C
A79: F03-17 | B79: 170860211 | C79: 油箱锁 | D79: LOCK,FUEL TANK | E79: RA220_沉口_国四_安装柱高度18; | F79: PCS | G79: 1 | H79: B | J79: NOT FOR SERVICE
A80: F03-18 | B80: 380190723-0001 | C80: 内六角螺钉 | D80: SCREW,HEXAGON SOCKET | E80: GB/T 70.1_M5_L=25_不锈钢; | F80: PCS | G80: 5 | H80: C
A81: F04 燃油蒸发控制组件 FUEL EVAPORATIVE COMP.
A83: F04-1 | B83: 173850178-0001 | C83: 燃油蒸发控制组件 | D83: CONTROLLER ASSY.,FUEL EVAPORATION | E83: RA220_含炭罐(借用R71)/倾倒阀/通气管组合/单向阀/管夹_283CC; | F83: SET | G83: 1 | H83: B
A84: F04-2 | B84: 110270050-0001 | C84: 通气管组合 | D84: TUBE ASSY.,BREATHER | E84: RA220_节气门体与炭罐电磁阀连接用; | F84: SET | G84: 1 | H84: C
A85: F04-3 | B85: 380960336-0001 | C85: 卡箍组合 | D85: CLAMP ASSY. | E85: RA220_DC01,1.0mm板材;电泳+喷塑2#哑黑Q8A | F85: PCS | G85: 1 | H85: C
A86: F04-4 | B86: 381420055-0003 | C86: 内花型头螺栓 | D86: BOLT,LOBULAR SOCKET COUNTERSUNK HEAD | E86: R6220_内花型凸圆头带盘_M5_L=12_8.8级 | F86: PCS | G86: 1 | H86: C
A87: F04-5 | B87: 174350007-0001 | C87: 炭罐电磁阀 | D87: MAGNETIC VALVE,CANISTER | E87: RA220; | F87: PCS | G87: 1 | H87: C
A88: F04-6 | B88: 380370003-0014 | C88: 六角法兰面螺母 | D88: NUT,HEXAGON FLANGE | E88: GB/T 6177.1_M6_8级;镀三价彩锌Q09 | F88: PCS | G88: 1 | H88: C
A89: F05 空滤器组件 AIR CLEANER ASSY.
A91: F05-1 | B91: 180021224-0001 | C91: 空滤器 | D91: AIR CLEANER COMP. | E91: RA220_容积10.2L_纸质滤芯_出气管孔径Φ49mm;黑色 | F91: PCS | G91: 1 | H91: C
A92: F05-2 | B92: 180150134 | C92: 空滤器进气管 | D92: INTAKE TUBE,AIR CLEANER | E92: RA220 | F92: PCS | G92: 1 | H92: C | J92: NOT FOR SERVICE
A93: F05-3 | B93: 180150133 | C93: 空滤器进气管 | D93: INTAKE TUBE,AIR CLEANER | E93: RA220_上 | F93: PCS | G93: 1 | H93: C | J93: NOT FOR SERVICE
A94: F05-4 | B94: 180120140 | C94: 空滤器滤芯骨架 | D94: FRAMEWORK,AIR CLEANER | E94: RA220_PP料 | F94: PCS | G94: 1 | H94: C | J94: NOT FOR SERVICE
A95: F05-5 | B95: 180100170-0001 | C95: 空滤器滤芯组合 | D95: ELEMENT ASSY.,AIR CLEANER | E95: RA220_纸质 | F95: PCS | G95: 1 | H95: A
A96: F05-6 | B96: 183710003 | C96: 空滤器壳体组合 | D96: CASE,AIR CLEANER | E96: RA220 | G96: 1 | J96: NOT FOR SERVICE
A97: F05-7 | B97: 280800205 | C97: 缓冲胶套 | D97: RUBBER JACKET, DAMPING | E97: RA220_三元乙丙 | F97: PCS | G97: 2 | H97: C | J97: NOT FOR SERVICE
A98: F05-8 | B98: 181300013 | C98: 滤芯安装卡块 | D98: PIECE,ELEMENT MOUNTING LOCKING | E98: RA220 | F98: PCS | G98: 1 | H98: C | J98: NOT FOR SERVICE
A99: F05-9 | B99: 381420064-0003 | C99: 内花型头螺栓 | D99: BOLT,LOBULAR SOCKET COUNTERSUNK HEAD | E99: R6220_内花型凸圆头带盘_M6_L=25_8.8级;本色三价锌镍合金 | F99: PCS | G99: 1 | H99: C
A100: F05-10 | B100: 380451002-0003 | C100: 平垫圈 | D100: WASHER,PLAIN | E100: Q/LX G 8.7_内径8_外径20_厚度2_Q235;镀三价彩锌Q09 | F100: PCS | G100: 1 | H100: C
A101: F05-11 | B101: 380890416-0001 | C101: 工字型胶圈 | D101: I-RUBBER | E101: RA220_Φ20.5×5+Φ16×11.5+Φ20.5×5,内径10.5_三元乙丙橡胶;XH700901 | F101: PCS | G101: 1 | H101: C
A102: F05-12 | B102: 380470177-0001 | C102: 翻边垫圈 | D102: WASHER,FLANGE | E102: RA220_Q235_外径9.5(台阶Φ20×2),内径6.3,长12;镀三价彩锌Q09 | F102: PCS | G102: 1 | H102: C
A103: F05-13 | B103: 172810117-0001 | C103: 节气门体总成 | D103: VALVE BODY ASSY., THROTTLE | E103: RA220_按联电的电子双缸_喉口直径Φ46_带油轨、喷油器、温度、压力传感器.F01R00Y273; | F103: PCS | G103: 1 | H103: B
A104: F05-14 | B104: 174340013-0001 | C104: 进气温度压力传感器 | D104: SENSOR,AIR TEMP&PRESSURE | E104: RA220 | F104: PCS | G104: 2 | H104: B
A105: F05-15 | B105: 380960213-0001 | C105: 卡箍组合 | D105: CLAMP ASSY. | E105: D320_蜗轮蜗杆Φ40mm-Φ60mm_CVT排气系统用_不锈钢; | F105: PCS | G105: 4 | H105: C
A106: F05-16 | B106: 380950523-0001 | C106: 管夹 | D106: CLAMP,TUBE | E106: QC/T 621.1_A型_Φ24;锌铝涂层,黑色_盐雾要求不小于480h | F106: PCS | G106: 1 | H106: C
A107: F05-17 | B107: 380741678-0001 | C107: 通气管 | D107: TUBE,BREATHER | E107: RA220_Φ18×Φ19×290_NBR+PVC/CSM_曲轴箱通气管;黑色 | F107: PCS | G107: 1 | H107: B
A108: F05-18 | B108: 380950566-0001 | C108: 管夹 | D108: CLAMP,TUBE | E108: QC/T 621.1_A型_Φ22_厚1.7_51Cr4V;锌铝涂层,黑色 | F108: PCS | G108: 1 | H108: C
A109: F05-19 | B109: 175300015-0001 | C109: 燃油管组合 | D109: FUEL TUBE ASSY. | E109: RA220_含油管(Φ14×Φ7×142)、尼龙防护网、橡胶护套、2个快换接头、2个管夹_油箱与油轨连接; | F109: PCS | G109: 1 | H109: C
A110: F06 消声器组件 MUFFLER EXHAUST ASSY.
A112: F06-1 | B112: 181160126-0002 | C112: 消声器排气管前段 | D112: FRONT PART,MUFFLER EXHAUST | E112: RA220_Basf_触媒Φ82×150,300/600目,55g 5:5:1_SUS304料;打刻"e9 E9 LX DS900X"字样_表面拉丝处理 | F112: PCS | G112: 1 | H112: C
...

Sheet ENGINE
A1: REF.No | B1: PLM CODE | C1: CHINESE PARTS NAME | D1: 英文名ENGLISH PARTS NAME | E1: DESCRIPTION | F1: QUANTITY | G1: UNIT | H1: WEAR & TEAR GRADE | I1: 1-A包装（HU) | J1: PICTURE | K1: REMARK | L1: 客户SAP码 | M1: FOB PRICE(USD)
A2: E1 | B2: F3101X0003-4M96000 | C2: 发动机总成 | D2: ENGINE | E2: KEL900双缸水冷电喷纯电起动发动机>左VOGE凸字右VOGE凸字-国际六档-18极电喷-滑动离合器，3组9片-M7外露17-NGK LMAR9J_9E 抗干扰-出口专用码>中间YA45黑两 边M960银灰 | F2: 1 | G2: SET | H2: C
A3: E01 气缸头盖组件 CYLINDER HEAD COVER
A5: E01-01 | B5: 7924218-03 | C5: 气缸头盖 | D5: CYLINDER HEAD COVER | E5: LK83_镁合金 | F5: 1 | G5: PCS | H5: C | I5: 1
A6: E01-02 | B6: 1025328-01 | C6: 气缸头盖密封垫 | D6: CYLINDER HEAD COVER GASKET | E6: LK80_增大半圆密封区域_切除干涉铆钉 | F6: 1 | G6: PCS | H6: A | I6: 10
A7: E01-03 | B7: 8568211-01 | C7: 火花塞密封圈 | D7: COVER GASKET SPARK PLUG DUCT | E7: LK80_火花塞密封圈; | F7: 2 | G7: PCS | H7: B | I7: 10
A8: E01-04 | B8: 8520212-01 | C8: 气缸头盖螺栓组合 | D8: BOLT COMP.,CYLINDER HEAD COVER | E8: LK80_M6×20;ZNS3 | F8: 4 | G8: PCS | H8: C | I8: 4
A9: E01-05 | B9: 7674653-03 | C9: 气缸头盖螺栓 | D9: CYLINDER HEAD SCREW | F9: 4 | M9: NOT FOR SERVICE
A10: E01-06 | B10: 8520214-01 | C10: 紧固垫片 | D10: FIXING WASHER | F10: 4 | M10: NOT FOR SERVICE
A11: E01-07 | B11: 8520213-01 | C11: 橡胶衬套 | D11: RUBBER BUSHING | F11: 4 | M11: NOT FOR SERVICE
A12: E02 气缸头组件 CYLINDER HEAD
A14: E02-01 | B14: 120070307-0001 | C14: 气缸头部件 | D14: ASSY CYLINDER HEAD | E14: 2EA0_增加散热器支架安装凸台;3#亚黑H12 | F14: 1 | G14: SET | H14: C | I14: 1
A15: E02-02 | B15: 120090671-0001 | C15: 气缸头 | D15: CYLINDER HEAD | E15: 2EA0_增加散热器支架安装凸台;3#亚黑H12 | F15: 1 | M15: NOT FOR SERVICE
A16: E02-03 | B16: 9898558-01 | C16: 排气门座圈 | D16: VALVE SEAT INSERT EXHAUST | E16: LK83; | F16: 4 | M16: NOT FOR SERVICE
A17: E02-04 | B17: 8562207-02 | C17: 进气门座圈 | D17: VALVE SEAT INSERT INTAKE | E17: LK80; | F17: 4 | M17: NOT FOR SERVICE
A18: E02-05 | B18: 9903893-00 | C18: 双头螺栓 | D18: STUD | E18: LK08_BMW 9903893_M7_L=30_8.8级;镀达克铬Q | F18: 4
A19: E02-06 | B19: 8556229-03 | C19: 气门导管 | D19: VALVE GUIDE | E19: LK80; | F19: 8 | M19: NOT FOR SERVICE
A20: E02-07 | B20: 141500004-0001 | C20: 凸轮轴支架 | D20: CAMSHAFT BEARING BRIDGE | E20: LK80_毛坯;抛丸Q05 | F20: 1 | M20: NOT FOR SERVICE
A21: E02-08 | B21: 7720059-01 | C21: 内花型头法兰盘螺栓 | D21: ISA SCREW | E21: LK80_M7_L=38_10.9级_凸轮轴支架螺栓和平衡轴轴承座;PHRISA SCREW M7x38 | F21: 12 | G21: PCS | H21: C | I21: 10
A22: E02-09 | B22: 9904649-00 | C22: 密封圈 | D22: O-RING | E22: DIN3771_D=25.12_d=1.78_FPM80; | F22: 2 | G22: PCS | H22: B | I22: 10
A23: E02-10 | B23: 7713823-01 | C23: 平垫圈 | D23: WASHER | E23: LK80_内径7.2_外径15_厚度2_铜_凸轮轴支架; | F23: 4 | G23: PCS | H23: C | I23: 10
A24: E02-11 | B24: 9907038-00 | C24: 实心定位销 | D24: DOWEL PIN | E24: LK80_实心销_d=5_L=10; | F24: 2 | G24: PCS | H24: C | I24: 10
A25: E02-12 | B25: 8561999-01 | C25: 堵头 | D25: EXPANDER | E25: LK80_Do=7_膨胀型; | F25: 1 | G25: PCS | H25: C | I25: 10
A26: E02-13 | B26: 8569335-01 | C26: 进气管 | D26: INTAKE MANIFOLD | E26: LK80; | F26: 2 | G26: PCS | H26: B | I26: 1
A27: E02-14 | B27: 7707831-01 | C27: 内六角沉头螺钉 | D27: COUNTER SUNK HEAD SCREW | E27: ISO10642_M6_L=16; | F27: 4 | G27: PCS | H27: C | I27: 10
A28: E03 进排气机构 AIR INTAKE AND EXHAUST MECHANISM
A30: E03-01 | B30: 140020282-0001 | C30: 进气凸轮轴组合 | D30: ASSY CAMSHAFT INTAKE | E30: 2EA0_进气; | F30: 1 | G30: SET | H30: B | I30: 1
A31: E03-02 | B31: 140030232-0001 | C31: 凸轮轴 | D31: CAMSHAFT INTAKE | E31: 2EA0_进气用凸轮轴; | F31: 1 | G31: PCS | H31: B | I31: 1
A32: E03-03 | B32: 9906155-00 | C32: 堵头 | D32: COVER ITD | E32: DIN443_Do=20;ZNNIV SI | F32: 1 | G32: PCS | H32: C | I32: 10
A33: E03-04 | B33: 9934624-00 | C33: 弹性挡圈 | D33: SNAP RING | E33: DIN472_d=20_S=1; | F33: 1 | G33: PCS | H33: B | I33: 10
A34: E03-05 | B34: 140020283-0001 | C34: 排气凸轮轴组合 | D34: ASSY CAMSHAFT EXAUST | E34: 2EA0_排气; | F34: 1 | G34: SET | H34: B | I34: 1
A35: E03-06 | B35: 140030233-0001 | C35: 凸轮轴 | D35: CAMSHAFT EXAUST | E35: 2EA0_排气用凸轮轴; | F35: 1 | G35: PCS | H35: B | I35: 1
A36: E03-07 | B36: 8561580-01 | C36: 减压阀体 | D36: DECO LEVER | E36: LK80; | F36: 2 | G36: PCS | H36: C | I36: 1
A37: E03-08 | B37: 8392386-01 | C37: 减压阀限位销 | D37: PIN FOR DECO SYSTEM | E37: LK80; | F37: 2 | G37: PCS | H37: C | I37: 1
A38: E03-09 | B38: 8395857-01 | C38: 减压阀扭簧 | D38: SPRING FOR DECO SYSTEM | E38: LK80_凸轮轴减压阀扭簧;4.247圈 | F38: 2 | G38: PCS | H38: B | I38: 1
A39: E03-10 | B39: 9909420-00 | C39: 弹性挡圈 | D39: SNAP RING | E39: DIN471_d=7_S=0.8; | F39: 2 | G39: PCS | H39: B | I39: 10
A40: E03-11 | B40: 140580082-0001 | C40: 正时从动链轮 | D40: TIMING SPROKET | E40: 2EA0_链轮_28齿; | F40: 2 | G40: PCS | H40: B | I40: 1
A41: E03-12 | B41: 7727500-01 | C41: 外花型头法兰盘螺栓 | D41: ASA SCREW | E41: LK80_M7_L=11.5_正时从动轮螺栓;PHR | F41: 6 | G41: PCS | H41: C | I41: 10
... A43: E03-14 | B43: 5A69F47-03 | C43: 上链条导向板组合 | D43: ASSY TOP CHAIN GUIDE | E43: LK83_结构优化 | F43: 1 | G43: PCS | H43: B | I43: 1
A44: E03-15 | B44: 8562331-01 | C44: 上导向板 | D44: SLIDING RAIL | F44: 1 | M44: NOT FOR SERVICE
A45: E03-16 | B45: 8562332-01 | C45: 导向板保持架 | D45: CHAIN GUIDE PROTECTION PLATE | F45: 1 | M45: NOT FOR SERVICE
A46: E03-17 | B46: 382330060-0001 | C46: 内六角花形法兰面螺栓 | D46: ISA SCREW | E46: 2EA0_M6_L=12_8.8级;镀锌镍合金ZNNIV | F46: 2 | G46: PCS | H46: C | I46: 10
A47: E03-18 | B47: 8535532-01 | C47: 正时链条 | D47: TIME CHAIN | E47: LK80_120; | F47: 1 | G47: PCS | H47: A | I47: 1
A48: E03-19 | B48: 8562333-01 | C48: 链条张紧板 | D48: TENSIONING RAIL | E48: LK80; | F48: 1 | G48: PCS | H48: B | I48: 1
A49: E03-20 | B49: 8562334-01 | C49: 链条导向板 | D49: GUIDING RAIL | E49: LK80; | F49: 1 | G49: PCS | H49: B | I49: 1
A50: E03-21 | B50: 8535599-01 | C50: 支撑轴 | D50: BACK SHAFT | E50: LK80_7×66; | F50: 2 | G50: PCS | H50: C | I50: 1
A51: E03-22 | B51: 8535600-01 | C51: 张紧器组合 | D51: CHAIN TENSIONER | E51: LK80;F-346207.36-0100.KSH.KSYS; | F51: 1 | G51: PCS | H51: B | I51: 1
A52: E03-23 | B52: 7718077-01 | C52: 密封圈 | D52: O-RING | E52: DIN3771_D=21_d=2.0_FPM70; | F52: 1 | G52: PCS | H52: B | I52: 10
A53: E03-24 | B53: 9906605-00 | C53: 密封圈 | D53: O-RING | E53: DIN3771_D=18_d=2.0_NBR70; | F53: 1 | G53: PCS | H53: B | I53: 10
A54: E03-25 | B54: 8568480-01 | C54: 轴承 | D54: BALL BEARING | E54: LK80_6003/P63; | F54: 1 | G54: PCS | H54: B | I54: 10
A55: E03-26
A56: E03-27 | B56: 6916475-02 | C56: 花型沉头螺钉 | D56: INT SCREW | E56: LK80_M5_L=9;ZNS3 | F56: 3 | G56: PCS | H56: C | I56: 10
A57: E03-28 | B57: 8535601-02 | C57: 张紧器盖板 | D57: ADPATER CHAIN TENSIONER | E57: LK80; | F57: 1 | G57: PCS | H57: C | I57: 1
A58: E03-29 | B58: 7718079-01 | C58: 定位销 | D58: NEEDLE ROLLER | E58: LK80_实心销,气门摇臂轴用_d=3.5_L=34.8;NRB3; | F58: 4 | G58: PCS | H58: C | I58: 10
A59: E03-30 | B59: 8405623-03 | C59: 气门摇臂 | D59: FINGER FOLLOWER FORGED | E59: LK83; | F59: 8 | G59: PCS | H59: B | I59: 2
A60: E03-31 | B60: 7713818-01 | C60: 气门摇臂轴 | D60: AXLE FOR CAM FOLLOWER | E60: LK80; | F60: 4 | G60: PCS | H60: B | I60: 1
A61: E03-32 | B61: 8562210-02 | C61: 气门锁夹 | D61: VALVE SPRING COTTER | E61: LK80; | F61: 16 | G61: PCS | H61: C | I61: 2
A62: E03-33 | B62: 8535530-01 | C62: 挡油罩 | D62: VALVE STEM SEAL | E62: LK80; | F62: 8 | G62: PCS | H62: A | I62: 2
A63: E03-34 | B63: 8396366-01 | C63: 气门外弹簧 | D63: VALVE SPRING WITH OTEVA 90 | E63: LK80_Oteva 90; | F63: 8 | G63: PCS | H63: C | I63: 2
A64: E03-35 | B64: 8562212-01 | C64: 气门弹簧座 | D64: VALVE SPRING RETAINER | E64: LK80; | F64: 8 | G64: PCS | H64: C | I64: 1
A65: E03-36 | B65: 8563619-01 | C65: 气门调整垫片 | D65: PLATE FOR VALVE LASH SETTING | E65: LK80;厚2.300 | F65: 8 | G65: PCS | H65: D | I65: 1
A66: E03-37 | B66: 9457142-02 | C66: 进气门 | D66: VALVE INLET | E66: LK83_盘部锥角30°; | F66: 4 | G66: PCS | H66: A | I66: 1
A67: E03-38 | B67: 9457143-01 | C67: 排气门 | D67: VALVE EXHAUST | E67: LK83; | F67: 4 | G67: PCS | H67: A | I67: 1
A68: E03-39 | B68: 8562216-02 | C68: 气门外弹簧座圈 | D68: LOWER SPRING PLATE XINZ | E68: LK80; | F68: 8 | G68: PCS | H68: C | I68: 2
A69: E04 曲轴箱组件 CRANKCASE ASSY.
A71: E04-01 | B71: 110010338-0001 | C71: 曲轴箱组件 | D71: CRANKCASE ASSY. | E71: 2EA0;面粉沃尔瓦格,YA45黑色 | F71: 1 | G71: SET | H71: D | I71: 1
A72: E04-02 | B72: 8559825-04 | C72: 轴承座 | D72: ASSY COUNTERBALANCE BEARING CAP | E72: LK80_平衡轴轴承盖_组合加工前; | F72: 1 | G72: PCS | H72: C | I72: 1
A73: E04-03 | B73: 8559824-03 | C73: 轴瓦端盖 | D73: COUNTERBALANCE BEARING CAP | F73: 1 | M73: NOT FOR SERVICE
A74: E04-04 | B74: 7720059-01 | C74: 内花型头法兰盘螺栓 | D74: ISA SCREW | E74: LK80_M7_L=38_10.9级_凸轮轴支架螺栓和平衡轴轴承座;PHRISA SCREW M7x38 | F74: 2 | G74: PCS | H74: C | I74: 10
A75: E04-05 | B75: 9907844-00 | C75: 定位销 | D75: CYLINDRICAL PIN | E75: LK80_实心销_d=8_L=18_BMW 9907844; | F75: 2 | G75: PCS | H75: C | I75: 10
A76: E04-06 | B76: 382330048-0001 | C76: 内花型头法兰盘螺栓 | D76: ISA SCREW | E76: 2EA0_M6_L=55_8.8级;镀锌镍合金ZNNIV | F76: 2 | G76: PCS | H76: C | I76: 10
A77: E04-07 | B77: 382330051-0001 | C77: 内花型头法兰盘螺栓 | D77: ISA SCREW | E77: 2EA0_M8_L=65_8.8级;镀锌镍合金ZNNIV | F77: 3 | G77: PCS | H77: C | I77: 10
A78: E04-08 | B78: 382330052-0001 | C78: 内花型头法兰盘螺栓 | D78: ISA SCREW | E78: 2EA0_M8_L=80_8.8级;镀锌镍合金ZNNIV | F78: 5 | G78: PCS | H78: C | I78: 10
A79: E04-09 | B79: 382330053-0001 | C79: 内花型头法兰盘螺栓 | D79: ISA SCREW | E79: 2EA0_M8_L=70_8.8级;镀锌镍合金ZNNIV | F79: 2 | G79: PCS | H79: C | I79: 10
A80: E04-10 | B80: 382330054-0001 | C80: 内花型头法兰盘螺栓 | D80: ISA SCREW | E80: 2EA0_M10_L=95_10.9级;镀锌镍合金ZNNIV | F80: 2 | G80: PCS | H80: C | I80: 10
A81: E04-11 | B81: 382330055-0001 | C81: 内花型头法兰盘螺栓 | D81: ISA SCREW | E81: 2EA0_M10_L=110_10.9级;镀锌镍合金ZNNIV | F81: 4 | G81: PCS | H81: C | I81: 10
A82: E04-12 | B82: 382330049-0001 | C82: 内花型头法兰盘螺栓 | D82: ISA SCREW | E82: 2EA0_M6_L=45_8.8级;镀锌镍合金ZNNIV | F82: 2 | G82: PCS | H82: C | I82: 10
A83: E04-13 | B83: 382330050-0001 | C83: 内花型头法兰盘螺栓 | D83: ISA SCREW | E83: 2EA0_M6_L=60_8.8级;镀锌镍合金ZNNIV | F83: 1 | G83: PCS | H83: C | I83: 10
A84: E04-14 | B84: 382330043-0002 | C84: 内花型头法兰盘螺栓 | D84: ISA SCREW | E84: 2CA0_M6_L=25;镀锌镍合金Q41 | F84: 2 | G84: PCS | H84: C | I84: 10
A85: E04-15 | B85: 8563976-01 | C85: 定位销 | D85: HOLLOW DOWEL | E85: LK80_空心销_d=9.5_L=10; | F85: 2 | G85: PCS | H85: C | I85: 10
... A90: E04-20 | B90: 8561999-01 | C90: 堵头 | D90: EXPANDER | E90: LK80_Do=7_膨胀型; | F90: 2 | G90: PCS | H90: C | I90: 10
A91: E04-21 | B91: 111510014-0001 | C91: 上曲轴箱体 | D91: UPPER CRANKCASE | F91: 1 | M91: NOT FOR SERVICE
A92: E04-22 | B92: 9904392-00 | C92: 密封螺塞 | D92: LOCK SCREW | E92: DIN908_M14×1.5;ZNS3 | F92: 1 | G92: PCS | H92: C | I92: 1
A93: E04-23 | B93: 9963200-00 | C93: 平垫圈 | D93: SEALING RING | E93: DIN7603_内径14_外径18_铝及铝合金_BMW 9963200; | F93: 1 | G93: PCS | H93: C | I93: 10
A94: E04-24 | B94: 8561999-01 | C94: 堵头 | D94: EXPANDER | E94: LK80_Do=7_膨胀型; | F94: 2 | G94: PCS | H94: C | I94: 10
A95: E04-25 | B95: 8561998-01 | C95: 堵头 | D95: EXPANDER | E95: LK80_Do=12_膨胀型; | F95: 2 | G95: PCS | H95: C | I95: 10
A96: E04-26 | B96: 7712697-01 | C96: 堵头 | D96: EXPANDER | E96: LK80_Do=10_膨胀型; | F96: 5 | G96: PCS | H96: C | I96: 10
A97: E04-27 | B97: 8565089-01 | C97: 机油喷嘴 | D97: OIL THROTTLE VALVE | E97: LK80_离合器机油节油阀; | F97: 1 | G97: PCS | H97: C | I97: 1
A98: E04-28 | B98: 110440004-0001 | C98: 视孔盖 | D98: LOCK SCREW | E98: LK15_塑料件; | F98: 1 | G98: PCS | H98: B | I98: 1
A99: E04-29 | B99: 7700396-01 | C99: 密封圈 | D99: O-Ring | E99: Q/LX G 8.22_D=23.3_d=2.4_氟橡胶; | F99: 1 | G99: PCS | H99: B | I99: 10
A100: E04-30 | B100: 1599095-01 | C100: 管接头 | D100: SCREW-IN FITTING | E100: LK80_内径14_长29_M20×1.5;磷化处理 | F100: 1 | G100: PCS | H100: C | I100: 1
A101: E04-31 | B101: 8563976-01 | C101: 定位销 | D101: HOLLOW DOWEL | E101: LK80_空心销_d=9.5_L=10; | F101: 2 | G101: PCS | H101: C | I101: 10
A102: E04-32 | B102: 8565069-02 | C102: 拉筋定位板 | D102: COUNTERHOLDER BOWDEN CABLE | E102: LK80;电泳黑漆Q12 | F102: 1 | G102: PCS | H102: C | I102: 1
A103: E04-33 | B103: 382330063-0001 | C103: 内花型头法兰盘螺栓 | D103: ISA SCREW | E103: 2EA0_M6_L=16_8.8级;MK_预涂胶_镀锌镍合金ZNNIV SI,银色 | F103: 1 | G103: PCS | H103: C | I103: 10
A104: E05 左曲轴箱盖 LEFT CRANKCASE COVER
A106: E05-01 | B106: 110380214-0002 | C106: 左曲轴箱盖 | D106: GENERATOR COVER | E106: 2EA0;VOGE凸字_M960银灰色粉末烤漆 | F106: 1 | G106: PCS | H106: C | I106: 1
A107: E05-02
A108: E05-03 | B108: 8393580-01 | C108: 内花型头法兰盘螺栓 | D108: ISA SCREW | E108: GS92037_M7_L=35_10.9级;ZNNIV SI | F108: 2 | G108: PCS | H108: C | I108: 10
A109: E05-04 | B109: 8393579-01 | C109: 内花型头法兰盘螺栓 | D109: ISA SCREW | E109: GS92037_M7_L=30_10.9级;ZNNIV SI | F109: 10 | G109: PCS | H109: C | I109: 10
A110: E05-05 | B110: 8561957-01 | C110: 线夹 | D110: BRACKET | E110: LK80_固定磁电机线束; | F110: 1 | G110: PCS | H110: C | I110: 10
...

Sheet F3101X0003-4M96000
A1: 110010338-0001 | B1: 110010338-0001 | C1: 曲轴箱组件>2EA0;面粉沃尔瓦格,YA45黑色 | D1: 1 | E1: SET | F1: =IF(A1=B1,"0","1") -> 0
A2: 8559825-04 | B2: 8559825-04 | C2: 轴承座>LK80_平衡轴轴承盖_组合加工前; | D2: 1 | E2: EA | F2: =IF(A2=B2,"0","1") -> 0
A3: 8563976-01 | B3: 8563976-01 | C3: 定位销>LK80_空心销_d=9.5_L=10; | D3: 2 | E3: EA | F3: =IF(A3=B3,"0","1") -> 0
A4: 9907844-00 | B4: 9907844-00 | C4: 定位销>LK80_实心销_d=8_L=18_BMW 9907844; | D4: 2 | E4: EA | F4: =IF(A4=B4,"0","1") -> 0
A5: 8561998-01 | B5: 8561998-01 | C5: 堵头>LK80_Do=12_膨胀型; | D5: 4 | E5: EA | F5: =IF(A5=B5,"0","1") -> 0
A6: 8561999-01 | B6: 8561999-01 | C6: 堵头>LK80_Do=7_膨胀型; | D6: 4 | E6: EA | F6: =IF(A6=B6,"0","1") -> 0
A7: 7712697-01 | B7: 7712697-01 | C7: 堵头>LK80_Do=10_膨胀型; | D7: 5 | E7: EA | F7: =IF(A7=B7,"0","1") -> 0
A8: 7924056-01 | B8: 7924056-01 | C8: 复合垫片>LK80_Φ6.7×Φ16×1_下箱体用; | D8: 1 | E8: EA | F8: =IF(A8=B8,"0","1") -> 0
A9: 7722791-02 | B9: 7722791-02 | C9: 复合垫片>LK80_Φ8×Φ20.5×1.5_下箱体用; | D9: 2 | E9: EA | F9: =IF(A9=B9,"0","1") -> 0
A10: 9904392-00 | B10: 9904392-00 | C10: 密封螺塞>DIN908_M14×1.5;ZNS3 | D10: 1 | E10: EA | F10: =IF(A10=B10,"0","1") -> 0
A11: 9963200-00 | B11: 9963200-00 | C11: 平垫圈>DIN7603_内径14_外径18_铝及铝合金_BMW 9963200; | D11: 1 | E11: EA | F11: =IF(A11=B11,"0","1") -> 0
A12: 110440004-0001 | B12: 110440004-0001 | C12: 视孔盖>LK15_塑料件; | D12: 1 | E12: EA | F12: =IF(A12=B12,"0","1") -> 0
... A277: 361090383-0001 | B277: 361090383-0001 | C277: 塑料袋>0ZAA_透明塑料薄膜_长1050_宽950_厚度0.08; | D277: 1 | E277: EA | F277: =IF(A277=B277,"0","1") -> 0

Sheet LRA22AX002CKV01GWZ
A1: 物料组描述 | B1: 子件物料号 | C1: 子件物料长描述 | D1: 单位 | E1: 数量 | F1: 筛选 | G1: 筛选
A2: 电子控制器ECU | B2: 172710207-0001 | C2: RA220_UASE电喷,ME17,F 01R 00D P3D型_112针脚,双接插件;欧五无程序 | D2: EA | E2: 1 | F2: =VLOOKUP(B2,'LX900-A'!B:B,1,FALSE) -> #N/A | G2: 无程序，不搭
A3: 消声器体前段 | B3: 180710226-0001 | C3: RA220_触媒Φ82×150,300/600目,55g 5:5:1_SUS304料;表面拉丝处理_打刻"e9 LX DS900X"字样_不可用于售后 | D3: EA | E3: 1 | F3: =VLOOKUP(B3,'LX900-A'!B:B,1,FALSE) -> #N/A | G3: 二层级，不搭
A4: 催化转化器 | B4: 180810444-0001 | C4: RA220_Φ82×150_300/600目_55g 5:5:1; | D4: EA | E4: 1 | F4: =VLOOKUP(B4,'LX900-A'!B:B,1,FALSE) -> #N/A | G4: 二层级，不搭
A5: 胎压传感器 | B5: 274470006-0001 | C5: RA220_传感器尺寸55×22.8_弯头;铜管镀镍Q23 | D5: EA | E5: 1 | F5: =VLOOKUP(B5,'LX900-A'!B:B,1,FALSE) -> 274470006-0001
A6: 速度传感器垫片 | B6: 284230004-0002 | C6: S6100_DC01_外径Φ112.5,高度5,厚度1.5,安装孔分度圆Φ72;电泳黑漆Q12 | D6: EA | E6: 1 | F6: =VLOOKUP(B6,'LX900-A'!B:B,1,FALSE) -> 284230004-0002
A7: 前轮 | B7: 290020739-0002 | C7: RA220_网轮铝圈_2.15×21_浮动双盘_真空胎_电子式计速器_带ABS齿圈安装孔;轮圈阳极氧化金色_轮毂喷粉+2#哑黑H97 | D7: EA | E7: 1 | F7: =VLOOKUP(B7,'LX900-A'!B:B,1,FALSE) -> 290020739-0002
A8: 轮胎 | B8: 290150981-0001 | C8: RA220_真空胎_90/90 R21_Scorpion Trail II花纹_速度等级V_高品质; | D8: EA | E8: 1 | F8: =VLOOKUP(B8,'LX900-A'!B:B,1,FALSE) -> 290150981-0001
A9: 前碟刹盘 | B9: 291420231-0001 | C9: RA220_浮动圆盘_六孔(Φ10.5×6); | D9: EA | E9: 2 | F9: =VLOOKUP(B9,'LX900-A'!B:B,1,FALSE) -> 291420231-0001
A10: 碟刹盘紧固螺栓 | B10: 291440047-0003 | C10: R6220_内六花_轴位直径10×9/M8×25;热处理_本色三价锌镍合金 | D10: EA | E10: 12 | F10: =VLOOKUP(B10,'LX900-A'!B:B,1,FALSE) -> 291440047-0003
A11: 内花型头螺栓 | B11: 381420067-0003 | C11: R6220_内花型圆柱头螺钉_M5_L=12_8.8级;本色三价锌镍合金 | D11: EA | E11: 5 | F11: =VLOOKUP(B11,'LX900-A'!B:B,1,FALSE) -> 381420067-0003
A12: 平垫圈 | B12: 380450028-0011 | C12: GB/T 97.1_内径5;镀三价彩锌Q09 | D12: EA | E12: 5 | F12: =VLOOKUP(B12,'LX900-A'!B:B,1,FALSE) -> 380450028-0011
A13: 胎压传感器 | B13: 274470006-0001 | C13: RA220_传感器尺寸55×22.8_弯头;铜管镀镍Q23 | D13: EA | E13: 1 | F13: =VLOOKUP(B13,'LX900-A'!B:B,1,FALSE) -> 274470006-0001
A14: 速度传感器垫片 | B14: 284230004-0002 | C14: S6100_DC01_外径Φ112.5,高度5,厚度1.5,安装孔分度圆Φ72;电泳黑漆Q12 | D14: EA | E14: 1 | F14: =VLOOKUP(B14,'LX900-A'!B:B,1,FALSE) -> 284230004-0002
A15: 轮胎 | B15: 290150982-0001 | C15: RA220_真空胎_150/70 R17_Scorpion Trail II花纹_速度等级V_高品质; | D15: EA | E15: 1 | F15: =VLOOKUP(B15,'LX900-A'!B:B,1,FALSE) -> 290150982-0001
A16: 后轮 | B16: 290220710-0002 | C16: RA220_网轮铝圈_4.25×17_碟刹_真空胎_缓冲块_电子式计速器_带ABS齿圈安装孔;轮圈阳极氧化金色,轮毂喷粉+2#哑黑H97 | D16: EA | E16: 1 | F16: =VLOOKUP(B16,'LX900-A'!B:B,1,FALSE) -> 290220710-0002
... A32: 内六角花形法兰面螺栓 | B32: 382330029-0003 | C32: R6220_M8_L=35_A=16_10.9级;本色三价锌镍合金 | D32: EA | E32: 4 | F32: =VLOOKUP(B32,'LX900-A'!B:B,1,FALSE) -> 382330029-0003
A33: 卡箍 | B33: 380970281-0001 | C33: RA220_DC01,1.0mm板材_孔52.5_用于前制动油管;电泳+喷塑2#哑黑Q8A | D33: EA | E33: 1 | F33: =VLOOKUP(B33,'LX900-A'!B:B,1,FALSE) -> 380970281-0001 | G33: 漏搭，制动
A34: 碟刹软管螺栓 | B34: 291800034-0001 | C34: R7100_M10×1×19;镀锌镍合金Q41 | D34: EA | E34: 4 | F34: =VLOOKUP(B34,'LX900-A'!B:B,1,FALSE) -> 291800034-0001
A35: ABS防抱死装置 | B35: 291820072-0001 | C35: RA220_1#状态;干式_元丰九代_YF9 | D35: EA | E35: 1 | F35: =VLOOKUP(B35,'LX900-A'!B:B,1,FALSE) -> 291820072-0001
A36: ABS连接油管 | B36: 294180123-0001 | C36: RA220_前进_航空管;软管带V030927字样_黑色 | D36: EA | E36: 1 | F36: =VLOOKUP(B36,'LX900-A'!B:B,1,FALSE) -> 294180123-0001
A37: ABS连接油管 | B37: 294180124-0001 | C37: RA220_前出_航空管;软管带V030927字样_黑色 | D37: EA | E37: 1 | F37: =VLOOKUP(B37,'LX900-A'!B:B,1,FALSE) -> 294180124-0001
A38: ABS连接油管 | B38: 294180125-0001 | C38: RA220_后进_航空管;软管带V030927字样_黑色 | D38: EA | E38: 1 | F38: =VLOOKUP(B38,'LX900-A'!B:B,1,FALSE) -> 294180125-0001
A39: ABS连接油管 | B39: 294180126-0001 | C39: RA220_后出_航空管;软管带V030927字样_黑色 | D39: EA | E39: 1 | F39: =VLOOKUP(B39,'LX900-A'!B:B,1,FALSE) -> 294180126-0001
A40: ABS安装支架 | B40: 297700033-0001 | C40: RA220_Q235,2.0mm板材_配博士ABS;电泳+喷塑2#哑黑Q8A | D40: EA | E40: 1 | F40: =VLOOKUP(B40,'LX900-A'!B:B,1,FALSE) -> 297700033-0001
A41: 平垫圈 | B41: 380450298-0001 | C41: Q/LX G 8.7_内径10_外径15_厚度1_铜;氧化Q07 | D41: EA | E41: 8 | F41: =VLOOKUP(B41,'LX900-A'!B:B,1,FALSE) -> 380450298-0001
A42: 衬套 | B42: 380820512-0004 | C42: 1730_翻边Φ9(Φ18×1.5)_内径6_长10;镀三价彩锌Q09 | D42: EA | E42: 2 | F42: =VLOOKUP(B42,'LX900-A'!B:B,1,FALSE) -> 380820512-0004
A43: 工字型胶圈 | B43: 380890174-0001 | C43: L040_Φ18×3+Φ12×2+Φ18×3+Φ8×8_三元乙丙_用于仪表支架_XH101903; | D43: EA | E43: 2 | F43: =VLOOKUP(B43,'LX900-A'!B:B,1,FALSE) -> 380890174-0001
A44: 内花型头螺栓 | B44: 381420049-0003 | C44: R6220_内花型凸圆头带盘_M6_L=16_8.8级;本色三价锌镍合金 | D44: EA | E44: 2 | F44: =VLOOKUP(B44,'LX900-A'!B:B,1,FALSE) -> 381420049-0003
A45: 左闸把部件 | B45: 271390600-0001 | C45: RA220_尼龙+玻纤_直流_不带风门手柄_带应急灯开关,巡航开关_线长600; | D45: SET | E45: 1 | F45: =VLOOKUP(B45,'LX900-A'!B:B,1,FALSE) -> 271390600-0001
... A64: 内花型头螺栓 | B64: 381420051-0003 | C64: R6220_内花型凸圆头带盘_M5_L=16_8.8级;本色三价锌镍合金 | D64: EA | E64: 7 | F64: =VLOOKUP(B64,'LX900-A'!B:B,1,FALSE) -> 381420051-0003
A65: 快换接头 | B65: 273610021-0001 | C65: RA220_7.89快换堵头; | D65: EA | E65: 2 | F65: =VLOOKUP(B65,'LX900-A'!B:B,1,FALSE) -> 273610021-0001 | G65: 漏搭，油箱
A66: 油箱护板支架 | B66: 340080015-0001 | C66: RA220_PA6;喷砂Q06 | D66: EA | E66: 1 | F66: =VLOOKUP(B66,'LX900-A'!B:B,1,FALSE) -> 340080015-0001
A67: 卡子螺母 | B67: 380420070-0001 | C67: R7110_M5_长17.5,宽15_65Mn;镀三价彩锌Q09 | D67: EA | E67: 4 | F67: =VLOOKUP(B67,'LX900-A'!B:B,1,FALSE) -> 380420070-0001
A68: 扎带 | B68: 6918644-01 | C68: 6918644 ASSY CAB | D68: EA | E68: 1 | F68: =VLOOKUP(B68,'LX900-A'!B:B,1,FALSE) -> 6918644-01 | G68: 漏搭，油箱
A69: 附件盒 | B69: 360720275-0002 | C69: R613C_瓦楞纸_一瓦楞三层_长430_宽260_高120_飞机盒;出口 | D69: EA | E69: 1 | F69: =VLOOKUP(B69,'LX900-A'!B:B,1,FALSE) -> #N/A | G69: 包装
A70: 包装箱 | B70: 360825522-0001 | C70: RA22A_瓦楞纸_三瓦楞纸七层_长2260_宽830_高1130_单摇盖;DS900X出口版面_用于状态1 | D70: EA | E70: 1 | F70: =VLOOKUP(B70,'LX900-A'!B:B,1,FALSE) -> #N/A | G70: 包装
A71: 包装支架 | B71: 361031158-0001 | C71: RA22A_角钢_长2250_宽820_高1130(不含踮脚)_带铁托盘_垫脚高80;用于出口状态1 | D71: SET | E71: 1 | F71: =VLOOKUP(B71,'LX900-A'!B:B,1,FALSE) -> #N/A | G71: 包装
A72: 气泡袋 | B72: 361080002-0001 | C72: 长370_宽290; | D72: EA | E72: 1 | F72: =VLOOKUP(B72,'LX900-A'!B:B,1,FALSE) -> #N/A | G72: 包装
A73: 气泡袋 | B73: 361080004-0001 | C73: 长380_宽200; | D73: EA | E73: 4 | F73: =VLOOKUP(B73,'LX900-A'!B:B,1,FALSE) -> #N/A | G73: 包装
A74: 气泡袋 | B74: 361080139-0001 | C74: 长950_宽350; | D74: EA | E74: 2 | F74: =VLOOKUP(B74,'LX900-A'!B:B,1,FALSE) -> #N/A | G74: 包装
A75: 塑料袋 | B75: 361090005-0001 | C75: L03A_透明塑料薄膜_长170_宽150; | D75: EA | E75: 1 | F75: =VLOOKUP(B75,'LX900-A'!B:B,1,FALSE) -> #N/A | G75: 包装
A76: 塑料袋 | B76: 361090007-0001 | C76: L080_透明塑料薄膜_长250_宽170; | D76: EA | E76: 1 | F76: =VLOOKUP(B76,'LX900-A'!B:B,1,FALSE) -> #N/A | G76: 包装
A77: 塑料袋 | B77: 361090388-0001 | C77: F220A_透明塑料薄膜_长2230_宽800_高1300_厚度0.05; | D77: EA | E77: 1 | F77: =VLOOKUP(B77,'LX900-A'!B:B,1,FALSE) -> #N/A | G77: 包装
A78: 捆绑带 | B78: 361110007-0001 | C78: L090_φ2.2×800; | D78: EA | E78: 3 | F78: =VLOOKUP(B78,'LX900-A'!B:B,1,FALSE) -> #N/A | G78: 包装
A79: 捆绑带 | B79: 361110014-0001 | C79: 2×φ0.9×900; | D79: EA | E79: 3 | F79: =VLOOKUP(B79,'LX900-A'!B:B,1,FALSE) -> #N/A | G79: 包装
... A91: 箍带 | B91: 380900077-0002 | C91: D060_L=250_B=4_尼龙_固定电缆用;黑色 | D91: EA | E91: 4 | F91: =VLOOKUP(B91,'LX900-A'!B:B,1,FALSE) -> #N/A | G91: 包装
A92: 通气管组合 | B92: 110270050-0001 | C92: RA220_节气门体与炭罐电磁阀连接用; | D92: EA | E92: 1 | F92: =VLOOKUP(B92,'LX900-A'!B:B,1,FALSE) -> 110270050-0001
A93: 散热器部件 | B93: 160010209-0001 | C93: RA220_短款_水冷_本体长380×宽200×厚28_带风扇组件(6寸风扇,功率60W),带水箱盖;黑色 | D93: SET | E93: 1 | F93: =VLOOKUP(B93,'LX900-A'!B:B,1,FALSE) -> 160010209-0001
A94: 散热器下支耳 | B94: 160390019-0001 | C94: RA220_Q235,2.0mm板材+Φ4圆钢_安装孔Φ7;电泳+喷塑2#哑黑Q8A | D94: EA | E94: 1 | F94: =VLOOKUP(B94,'LX900-A'!B:B,1,FALSE) -> 160390019-0001
A95: 散热器保护罩 | B95: 160830020-0001 | C95: RA220_PP-GF15_散热器后;喷砂Q06 | D95: EA | E95: 1 | F95: =VLOOKUP(B95,'LX900-A'!B:B,1,FALSE) -> 160830020-0001
A96: 补偿水壶 | B96: 161420004-0001 | C96: RA220_HDPE料_异形_吹塑,容积:380ml;本色 | D96: EA | E96: 1 | F96: =VLOOKUP(B96,'LX900-A'!B:B,1,FALSE) -> 161420004-0001
A97: 散热器装饰罩 | B97: 161490017-0001 | C97: RA220_PP料;普通皮纹 | D97: EA | E97: 1 | F97: =VLOOKUP(B97,'LX900-A'!B:B,1,FALSE) -> 161490017-0001
A98: 油箱支撑胶套 | B98: 170690046-0001 | C98: L100_橡胶_安装孔Φ9,外径Φ32,长19_安装油箱前部_XH103413; | D98: EA | E98: 2 | F98: =VLOOKUP(B98,'LX900-A'!B:B,1,FALSE) -> 170690046-0001
A99: 电子控制器ECU | B99: 172710239-0001 | C99: RA220_步进电机,进气温度传感器,进气压力传感器;欧五_V1_E0,92#汽油及以上_ECU程序识别码02390001 | D99: EA | E99: 1 | F99: =VLOOKUP(B99,'LX900-A'!B:B,1,FALSE) -> 172710239-0001 | G99: 要刷程序ECU
A100: 氧传感器 | B100: 172750052-0001 | C100: R6170_UASE,F01R00C196型,线长510_加热式;带F01R00C196字样 | D100: EA | E100: 2 | F100: =VLOOKUP(B100,'LX900-A'!B:B,1,FALSE) -> 172750052-0001
A101: 节气门体总成 | B101: 172810117-0001 | C101: RA220_按联电的电子双缸_喉口直径Φ46_带油轨、喷油器、温度、压力传感器.F01R00Y273; | D101: EA | E101: 1 | F101: =VLOOKUP(B101,'LX900-A'!B:B,1,FALSE) -> 172810117-0001
A102: 燃油蒸发控制组件 | B102: 173850178-0001 | C102: RA220_含炭罐(借用R71)/倾倒阀/通气管组合/单向阀/管夹_283CC; | D102: SET | E102: 1 | F102: =VLOOKUP(B102,'LX900-A'!B:B,1,FALSE) -> 173850178-0001
A103: 炭罐电磁阀 | B103: 174350007-0001 | C103: RA220; | D103: EA | E103: 1 | F103: =VLOOKUP(B103,'LX900-A'!B:B,1,FALSE) -> 174350007-0001
A104: 燃油管组合 | B104: 175300015-0001 | C104: RA220_含油管(Φ14×Φ7×142)、尼龙防护网、橡胶护套、2个快换接头、2个管夹_油箱与油轨连接; | D104: EA | E104: 1 | F104: =VLOOKUP(B104,'LX900-A'!B:B,1,FALSE) -> 175300015-0001 | G104: 漏搭，空滤器
A105: 空滤器 | B105: 180021224-0001 | C105: RA220_容积10.2L_纸质滤芯_出气管孔径Φ49mm;黑色 | D105: EA | E105: 1 | F105: =VLOOKUP(B105,'LX900-A'!B:B,1,FALSE) -> 180021224-0001
A106: 排气口密封垫 | B106: 180650152-0001 | C106: RA220_不锈钢成型; | D106: EA | E106: 2 | F106: =VLOOKUP(B106,'LX900-A'!B:B,1,FALSE) -> 180650152-0001
A107: 消声器体后段 | B107: 180720350-0001 | C107: RA220_KEL900发动机_全部SUS304料_单孔;表面拉丝,护罩碳纤皮纹 | D107: EA | E107: 1 | F107: =VLOOKUP(B107,'LX900-A'!B:B,1,FALSE) -> 180720350-0001
A108: 挂板加强垫圈 | B108: 180870010-0001 | C108: RA220;阳极氧化本色 | D108: EA | E108: 1 | F108: =VLOOKUP(B108,'LX900-A'!B:B,1,FALSE) -> 180870010-0001
A109: 消声器支架 | B109: 180990224-0001 | C109: RA220_Q235,4.0mm板材;电泳+喷塑2#哑黑Q8A | D109: EA | E109: 1 | F109: =VLOOKUP(B109,'LX900-A'!B:B,1,FALSE) -> 180990224-0001
A110: 消声器排气管前段 | B110: 181160126-0002 | C110: RA220_Basf_触媒Φ82×150,300/600目,55g 5:5:1_SUS304料;打刻"e9 E9 LX DS900X"字样_表面拉丝处理 | D110: EA | E110: 1 | F110: =VLOOKUP(B110,'LX900-A'!B:B,1,FALSE) -> 181160126-0002
A111: 炭罐支架 | B111: 181930052-0001 | C111: RA220_Q195,1.5mm板材;电泳+喷塑2#哑黑Q8A | D111: EA | E111: 1 | F111: =VLOOKUP(B111,'LX900-A'!B:B,1,FALSE) -> 181930052-0001
A112: 消声器排气管中段 | B112: 183310006-0001 | C112: RA220_前;表面拉丝处理 | D112: EA | E112: 1 | F112: =VLOOKUP(B112,'LX900-A'!B:B,1,FALSE) -> 183310006-0001
A113: 变速踏板 | B113: 193700756-0001 | C113: RA220_单臂_冲压件;电泳+喷塑(2#哑黑)Q8A | D113: EA | E113: 1 | F113: =VLOOKUP(B113,'LX900-A'!B:B,1,FALSE) -> 193700756-0001
A114: 花键座 | B114: 193790120-0001 | C114: RA220_6082; | D114: EA | E114: 1 | F114: =VLOOKUP(B114,'LX900-A'!B:B,1,FALSE) -> 193790120-0001
A115: 链条 | B115: 260010283-0001 | C115: RA220_525SX2_122节_油封链条,全封闭式;氧化Q07 | D115: EA | E115: 1 | F115: =VLOOKUP(B115,'LX900-A'!B:B,1,FALSE) -> 260010283-0001
A116: 链盒 | B116: 260060254-0001 | C116: RA220_半包_PP料;普通皮纹 | D116: EA | E116: 1 | F116: =VLOOKUP(B116,'LX900-A'!B:B,1,FALSE) -> 260060254-0001
A117: 线束压板 | B117: 270280047-0001 | C117: RA220_PP料;普通皮纹 | D117: EA | E117: 1 | F117: =VLOOKUP(B117,'LX900-A'!B:B,1,FALSE) -> 270280047-0001
A118: 起动继电器 | B118: 270810228-0001 | C118: RA220_方形_竖插_带保险盒_无线束; | D118: EA | E118: 1 | F118: =VLOOKUP(B118,'LX900-A'!B:B,1,FALSE) -> 270810228-0001 | G118: 漏搭，电器
A119: 电器件安装支架 | B119: 270860106-0001 | C119: RA220_装辅助继电器_DC01,1.5mm板材;电泳+喷塑2#哑黑Q8A | D119: EA | E119: 2 | F119: =VLOOKUP(B119,'LX900-A'!B:B,1,FALSE) -> 270860106-0001
A120: 调压整流器 | B120: 270880203-0001 | C120: 86A0_18级_短路式_40A; | D120: EA | E120: 1 | F120: =VLOOKUP(B120,'LX900-A'!B:B,1,FALSE) -> 270880203-0001
A121: 调压整流器支架 | B121: 270910037-0001 | C121: RA220_Q235,2.0mm板材_螺纹M6×14,安装孔距78;电泳+喷塑(2#哑黑)Q8A | D121: EA | E121: 1 | F121: =VLOOKUP(B121,'LX900-A'!B:B,1,FALSE) -> 270910037-0001
A122: 点火线圈 | B122: 270920630-0001 | C122: RA220_电感式,笔式; | D122: EA | E122: 2 | F122: =VLOOKUP(B122,'LX900-A'!B:B,1,FALSE) -> 270920630-0001
A123: 蓄电池 | B123: 271060571-0001 | C123: 6-FM-12/12V12Ah_150×86×130_全免维护_含螺栓、螺母; | D123: EA | E123: 1 | F123: =VLOOKUP(B123,'LX900-A'!B:B,1,FALSE) -> 271060571-0001
A124: 蓄电池压架 | B124: 271170178-0001 | C124: RA220_Q195,1.5mm板材;电泳+喷塑2#哑黑Q8A | D124: EA | E124: 1 | F124: =VLOOKUP(B124,'LX900-A'!B:B,1,FALSE) -> 271170178-0001
A125: 主电缆 | B125: 271232558-0001 | C125: RA220_联电电喷_电子油门_六档_片式保险_直流全波_灯光常亮_带USB接口_带ABS接口,电子锁; | D125: EA | E125: 1 | F125: =VLOOKUP(B125,'LX900-A'!B:B,1,FALSE) -> 271232558-0001
A126: 连接线 | B126: 271280383-0001 | C126: RA220_长2000_摄像头延长线; | D126: EA | E126: 1 | F126: =VLOOKUP(B126,'LX900-A'!B:B,1,FALSE) -> 271280383-0001
A127: DC插座 | B127: 271310002-0001 | C127: D560_12V/120W_陶瓷底芯_线长150_DJ7021Y-4.8-11/28成; | D127: EA | E127: 1 | F127: =VLOOKUP(B127,'LX900-A'!B:B,1,FALSE) -> 271310002-0001
A128: 点火开关 | B128: 271330334-0001 | C128: RA220_带方向锁_无钥匙点火锁; | D128: EA | E128: 1 | F128: =VLOOKUP(B128,'LX900-A'!B:B,1,FALSE) -> 271330334-0001
A129: 副电缆 | B129: 272470218-0001 | C129: RA220_雷达探头副电线_线长250; | D129: EA | E129: 1 | F129: =VLOOKUP(B129,'LX900-A'!B:B,1,FALSE) -> 272470218-0001
A130: 电器盒 | B130: 272800030-0001 | C130: RA220_PP料;普通皮纹 | D130: EA | E130: 1 | F130: =VLOOKUP(B130,'LX900-A'!B:B,1,FALSE) -> 272800030-0001
A131: 侧倾传感器 | B131: 273310005-0001 | C131: RA220_65°_无线束_负控,无延时; | D131: EA | E131: 1 | F131: =VLOOKUP(B131,'LX900-A'!B:B,1,FALSE) -> 273310005-0001 | G131: 漏搭，电器
A132: BCM控制器 | B132: 274490008-0001 | C132: RA220_转向灯控制功能_34脚防水_带手把加热,座垫加热; | D132: EA | E132: 1 | F132: =VLOOKUP(B132,'LX900-A'!B:B,1,FALSE) -> 274490008-0001
A133: 遥控钥匙 | B133: 277770003-0001 | C133: S6100_带寻车键,备用键_不含钥匙坯; | D133: EA | E133: 1 | F133: =VLOOKUP(B133,'LX900-A'!B:B,1,FALSE) -> 277770003-0001
A134: 固定卡子 | B134: 277840007-0001 | C134: 355A_覆盖件弹簧卡_BMW编号8542040-000A; | D134: EA | E134: 21 | F134: =VLOOKUP(B134,'LX900-A'!B:B,1,FALSE) -> 277840007-0001
A135: 换档趋势传感器 | B135: 278280001-0001 | C135: R713A_角度传感器_含磁铁组件; | D135: EA | E135: 1 | F135: =VLOOKUP(B135,'LX900-A'!B:B,1,FALSE) -> 278280001-0001
A136: 侧光片 | B136: 280010113-0002 | C136: H500_条形两端半圆状;带CCC标识及欧标号IA-E4-02-3713_带KM-206字样_自带粘胶 | D136: EA | E136: 2 | F136: =VLOOKUP(B136,'LX900-A'!B:B,1,FALSE) -> 280010113-0002 | G136: 漏搭，前叉
A137: 后反射器 | B137: 280110132-0001 | C137: H2690_条形两端半圆状;红色,黑色底座_带CCC标识及欧标号IA-E4-02-3713 | D137: EA | E137: 1 | F137: =VLOOKUP(B137,'LX900-A'!B:B,1,FALSE) -> 280110132-0001
A138: 喇叭 | B138: 280190262-0001 | C138: R7130_φ70.8_单喇叭_带支架_插片夹角45°;电泳黑漆Q12_欧标号Ⅱ E9-006693,打刻DL126J字样 | D138: EA | E138: 1 | F138: =VLOOKUP(B138,'LX900-A'!B:B,1,FALSE) -> 280190262-0001 | G138: 漏搭，电器
A139: 喇叭支架 | B139: 280200210-0001 | C139: RA220_Q195,1.5mm板材;电泳+喷塑2#哑黑Q8A | D139: EA | E139: 1 | F139: =VLOOKUP(B139,'LX900-A'!B:B,1,FALSE) -> 280200210-0001
A140: 前照灯 | B140: 280351085-0001 | C140: RA220_异形_LED_带位置灯_防水组合插头,无引出导线; | D140: EA | E140: 1 | F140: =VLOOKUP(B140,'LX900-A'!B:B,1,FALSE) -> 280351085-0001
A141: 前照灯罩 | B141: 280380338-0001 | C141: RA220_PP料;普通皮纹 | D141: EA | E141: 1 | F141: =VLOOKUP(B141,'LX900-A'!B:B,1,FALSE) -> 280380338-0001
A142: 前照灯支架 | B142: 280460283-0001 | C142: RA220_与车架安装孔距60,覆盖件安装螺孔4-M8;电泳+喷塑2#哑黑Q8A | D142: EA | E142: 1 | F142: =VLOOKUP(B142,'LX900-A'!B:B,1,FALSE) -> 280460283-0001 | G142: 漏搭，车架
A143: 尾灯 | B143: 280580764-0001 | C143: RA220_LED_不带后转向灯_不带牌照灯_无引出导线_不带后反射器; | D143: EA | E143: 1 | F143: =VLOOKUP(B143,'LX900-A'!B:B,1,FALSE) -> 280580764-0001
A144: 后牌照灯 | B144: 280720098-0001 | C144: S6100_LED灯泡_线长330;带欧标号E9-50R-00 6620 | D144: EA | E144: 1 | F144: =VLOOKUP(B144,'LX900-A'!B:B,1,FALSE) -> 280720098-0001
...

Sheet LRA22AX002CKV02WWZ
A1: 子件物料号 | B1: 物料组描述 | C1: 子件物料长描述 | D1: 单位 | E1: 数量
A2: 172710207-0001 | B2: 电子控制器ECU | C2: RA220_UASE电喷,ME17,F 01R 00D P3D型_112针脚,双接插件;欧五无程序 | D2: EA | E2: 1
A3: 180710226-0001 | B3: 消声器体前段 | C3: RA220_触媒Φ82×150,300/600目,55g 5:5:1_SUS304料;表面拉丝处理_打刻"e9 LX DS900X"字样_不可用于售后 | D3: EA | E3: 1
A4: 180810444-0001 | B4: 催化转化器 | C4: RA220_Φ82×150_300/600目_55g 5:5:1; | D4: EA | E4: 1
A5: 274470006-0001 | B5: 胎压传感器 | C5: RA220_传感器尺寸55×22.8_弯头;铜管镀镍Q23 | D5: EA | E5: 1
A6: 284230004-0002 | B6: 速度传感器垫片 | C6: S6100_DC01_外径Φ112.5,高度5,厚度1.5,安装孔分度圆Φ72;电泳黑漆Q12 | D6: EA | E6: 1
A7: 290020739-0002 | B7: 前轮 | C7: RA220_网轮铝圈_2.15×21_浮动双盘_真空胎_电子式计速器_带ABS齿圈安装孔;轮圈阳极氧化金色_轮毂喷粉+2#哑黑H97 | D7: EA | E7: 1
A8: 290150981-0001 | B8: 轮胎 | C8: RA220_真空胎_90/90 R21_Scorpion Trail II花纹_速度等级V_高品质; | D8: EA | E8: 1
A9: 291420231-0001 | B9: 前碟刹盘 | C9: RA220_浮动圆盘_六孔(Φ10.5×6); | D9: EA | E9: 2
A10: 291440047-0003 | B10: 碟刹盘紧固螺栓 | C10: R6220_内六花_轴位直径10×9/M8×25;热处理_本色三价锌镍合金 | D10: EA | E10: 12
A11: 381420067-0003 | B11: 内花型头螺栓 | C11: R6220_内花型圆柱头螺钉_M5_L=12_8.8级;本色三价锌镍合金 | D11: EA | E11: 5
A12: 380450028-0011 | B12: 平垫圈 | C12: GB/T 97.1_内径5;镀三价彩锌Q09 | D12: EA | E12: 5
A13: 274470006-0001 | B13: 胎压传感器 | C13: RA220_传感器尺寸55×22.8_弯头;铜管镀镍Q23 | D13: EA | E13: 1
... A526: F3101X0003-4M96000 | B526: KE系列 | C526: KEL900双缸水冷电喷纯电起动发动机>左VOGE凸字右VOGE凸字-国际六档-18极电喷-滑动离合器，3组9片-M7外露17-NGK LMAR9J_9E 抗干扰-出口专用码>中间YA45黑两边M960银灰 | D526: TAI | E526: 1
